BEGIN:VCALENDAR
VERSION:2.0
PRODID:-//Evangelische Kirchengemeinde Köln-Nippes - ECPv6.15.12.2//NONSGML v1.0//EN
CALSCALE:GREGORIAN
METHOD:PUBLISH
X-ORIGINAL-URL:https://www.lutherkirche-nippes.de
X-WR-CALDESC:Veranstaltungen für Evangelische Kirchengemeinde Köln-Nippes
REFRESH-INTERVAL;VALUE=DURATION:PT1H
X-Robots-Tag:noindex
X-PUBLISHED-TTL:PT1H
BEGIN:VTIMEZONE
TZID:Europe/Berlin
BEGIN:DAYLIGHT
TZOFFSETFROM:+0100
TZOFFSETTO:+0200
TZNAME:CEST
DTSTART:20240331T010000
END:DAYLIGHT
BEGIN:STANDARD
TZOFFSETFROM:+0200
TZOFFSETTO:+0100
TZNAME:CET
DTSTART:20241027T010000
END:STANDARD
BEGIN:DAYLIGHT
TZOFFSETFROM:+0100
TZOFFSETTO:+0200
TZNAME:CEST
DTSTART:20250330T010000
END:DAYLIGHT
BEGIN:STANDARD
TZOFFSETFROM:+0200
TZOFFSETTO:+0100
TZNAME:CET
DTSTART:20251026T010000
END:STANDARD
BEGIN:DAYLIGHT
TZOFFSETFROM:+0100
TZOFFSETTO:+0200
TZNAME:CEST
DTSTART:20260329T010000
END:DAYLIGHT
BEGIN:STANDARD
TZOFFSETFROM:+0200
TZOFFSETTO:+0100
TZNAME:CET
DTSTART:20261025T010000
END:STANDARD
END:VTIMEZONE
BEGIN:VEVENT
DTSTART;VALUE=DATE:20251115
DTEND;VALUE=DATE:20251211
DTSTAMP:20260421T184455
CREATED:20251121T115602Z
LAST-MODIFIED:20251121T123243Z
UID:12710-1763164800-1765411199@www.lutherkirche-nippes.de
SUMMARY:Spendenaktion für Kinder: Ein Karton voller Freude!
DESCRIPTION:Cologne Cares e.V. sammelt: \nEin Karton voller Freude!\nWeihnachtsgeschenke für Kinder in ukrainischen Heimen \n15. November – 10. Dezember 2025 \nPack einen Karton mit kleinen\, neuen Geschenken. \nBeschrifte ihn mit Alter und Geschlecht des Kindes (4-17 Jahre)  \nJedes Geschenk zeigt: Du bist nicht vergessen! \nGib dein Paket bis zum 10.12. hier ab:  \nEv. Kirchengemeinde Köln-Nippes \nSiebachstr. 85\, 50733 Köln \nMo\, Di\, Do 10-14 Uhr  \nBüro Petrol\nKuenstr. 7\n50733 Köln \nMo-Do 10-15 Uhr  \nSt. Marien-Hospital\nPforte Kunibertskloster\, 50668 Köln \nTgl. 6-21 Uhr  \nWoodCutter Köln \nHabsburgerring 9-13\n50674 Köln \nDi-So 16-21 Uhr  \n\nSpendenhilfe für Transportkosten\nGLS Bank\nIBAN: DE81 4306 0967 1351 6090 00 \nPayPal: info@cologne-cares.de \nMehr Infos unter www.cologne-cares.de \n \n 
URL:https://www.lutherkirche-nippes.de/termin/kartonfreude-2025/
LOCATION:NRW
CATEGORIES:Fest,Hilfe,Kooperation
ATTACH;FMTTYPE=image/png:https://www.lutherkirche-nippes.de/wp-content/uploads/2025/11/Bildschirmfoto-2025-11-21-um-13.14.18.png
END:VEVENT
BEGIN:VEVENT
DTSTART;TZID=Europe/Berlin:20251127T153000
DTEND;TZID=Europe/Berlin:20251224T153000
DTSTAMP:20260421T184455
CREATED:20250911T091215Z
LAST-MODIFIED:20250912T122929Z
UID:12302-1764257400-1766590200@www.lutherkirche-nippes.de
SUMMARY:Zeit für Kinder: Weihnachten zum Mitmachen!
DESCRIPTION:Werde Teil von unserem Weihnachtsstück!\nDu bist zwischen 4 und 9 Jahren alt? Du kannst an allen Probe-Terminen?\nWir proben in unserem Gemeindehaus\, in der Siebachstraße 85. \nUnsere Termine sind:\nDonnerstags\, 15.30-17 Uhr\n27.11. / 4.12. / 11.12. / 18.12. \nUnd kurz vor Weihnachten\, 10-12 Uhr\nMo\, 22.12. / Di\, 23.12. \nAufführung:\n24.12. / 14:3o-15:30 Uhr\nim Gottesdienst Gemeinsam an Heiligabend \nSei dabei und melde dich bis 15. November hier an! \nWir freuen uns auf dich!\nDein Zeit für Kinder-Team\n \n\nNoch Fragen? Wende dich an: \nDorothea Ugi\ndorothea.ugi@ekir.de\n01520 – 87 08 574 (Mo/Mi/Do) \n \n 
URL:https://www.lutherkirche-nippes.de/termin/weihnachtsstueck-2025/
LOCATION:Gemeindehaus\, Siebachstr. 85\, Köln\, 50733
CATEGORIES:Fest,Gottesdienst Gemeinsam,Theater,Zeit für Kinder
ATTACH;FMTTYPE=image/png:https://www.lutherkirche-nippes.de/wp-content/uploads/2024/09/Bildschirmfoto-2024-09-19-um-10.34.33-1.png
END:VEVENT
BEGIN:VEVENT
DTSTART;TZID=Europe/Berlin:20251201T200000
DTEND;TZID=Europe/Berlin:20251201T220000
DTSTAMP:20260421T184455
CREATED:20250710T081235Z
LAST-MODIFIED:20251106T093516Z
UID:12148-1764619200-1764626400@www.lutherkirche-nippes.de
SUMMARY:Momente für Eltern
DESCRIPTION:Eltern kommen zusammen\, tauschen sich aus\, teilen kostbare Momente miteinander. \nWintercocktail\ngemeinsam mixen & genießen\n01. Dezember | 20 Uhr\nSiebachstraße 85\nim Gemeindehaus \n \n\nEinen Moment\, bitte! \nViele Eltern werden diese Bitte im Alltag vermutlich täglich aussprechen. An die eigenen Kinder\, Arbeitskolleg*innen\, Freund*innen\, Verwandte oder den bzw die Partner*in. Manchmal braucht es einen Moment. Einen Moment Zeit\, Pause\, Entspannen\, Nicht-Denken-Müssen\, Ruhe\, Nicht-alles- gleichzeitig-machen-Müssen. \nDiese Sehnsucht haben viele Eltern. Einigen gelingt es\, diese Momente im Hobby\, mit lieben Menschen oder im Reisen zu erleben. Einige wollen nur noch alleine sein und auf dem Sofa versacken\, schlafen\, streamen\, lesen\, daddeln\, wenn die Kinder schlafen oder versorgt sind. Einen Moment eben. \nKann so ein Moment…\n\n…auch in Gemeinschaft mit anderen Eltern erlebt und geteilt werden? Wir möchten es ausprobieren. Wir schenken uns Momente. Momente der Freude\, der Zuversicht\, der Wut\, der Angst\, der Nähe. Momente\, die wir so gestalten können\, wie wir es wollen und brauchen. Wir kommen zusammen\, bringen einen Impuls mit und schauen\, was dieser Moment mit uns macht. \nWir möchten Raum schaffen für all das\, was uns bewegt als Eltern. \nAls Personen. Schenken wir uns doch diese Momente. Wir freuen uns auf euch! \n \n\nmomente.fuer.eltern@ \nFragen? \n\n\n\n\n\nTeam Momente für Eltern\n\nAnne Kolorz\nanne.kolorz@gmail.com\nAndreas Bläse\nandrea.blaese@gmail.com \n \n\n\n\n\n\n\n\n\n\n\nEin Projekt von:\n \nwww.hierundweiter.de \n\n\n \n\n \n\n\n\n\n \n  \n  \n  \n 
URL:https://www.lutherkirche-nippes.de/termin/elternmomente-2512/
LOCATION:Gemeindehaus\, Deutschland
CATEGORIES:Dialog,Momente
ATTACH;FMTTYPE=image/jpeg:https://www.lutherkirche-nippes.de/wp-content/uploads/2025/07/Titel-Momente-fuer-Eltern-2512.jpg
END:VEVENT
END:VCALENDAR