BEGIN:VCALENDAR
VERSION:2.0
PRODID:-//Evangelische Kirchengemeinde Köln-Nippes - ECPv6.15.12.2//NONSGML v1.0//EN
CALSCALE:GREGORIAN
METHOD:PUBLISH
X-ORIGINAL-URL:https://www.lutherkirche-nippes.de
X-WR-CALDESC:Veranstaltungen für Evangelische Kirchengemeinde Köln-Nippes
REFRESH-INTERVAL;VALUE=DURATION:PT1H
X-Robots-Tag:noindex
X-PUBLISHED-TTL:PT1H
BEGIN:VTIMEZONE
TZID:Europe/Berlin
BEGIN:DAYLIGHT
TZOFFSETFROM:+0100
TZOFFSETTO:+0200
TZNAME:CEST
DTSTART:20240331T010000
END:DAYLIGHT
BEGIN:STANDARD
TZOFFSETFROM:+0200
TZOFFSETTO:+0100
TZNAME:CET
DTSTART:20241027T010000
END:STANDARD
BEGIN:DAYLIGHT
TZOFFSETFROM:+0100
TZOFFSETTO:+0200
TZNAME:CEST
DTSTART:20250330T010000
END:DAYLIGHT
BEGIN:STANDARD
TZOFFSETFROM:+0200
TZOFFSETTO:+0100
TZNAME:CET
DTSTART:20251026T010000
END:STANDARD
BEGIN:DAYLIGHT
TZOFFSETFROM:+0100
TZOFFSETTO:+0200
TZNAME:CEST
DTSTART:20260329T010000
END:DAYLIGHT
BEGIN:STANDARD
TZOFFSETFROM:+0200
TZOFFSETTO:+0100
TZNAME:CET
DTSTART:20261025T010000
END:STANDARD
END:VTIMEZONE
BEGIN:VEVENT
DTSTART;VALUE=DATE:20251224
DTEND;VALUE=DATE:20251227
DTSTAMP:20260421T184514
CREATED:20251120T130640Z
LAST-MODIFIED:20251219T120831Z
UID:12644-1766534400-1766793599@www.lutherkirche-nippes.de
SUMMARY:Weihnachten 2025 im Überblick
DESCRIPTION:Weihnachten\n \nDie Weihnachtsfeiertage feiern wir mit einer ganzen Reihe von Angeboten\, \ndie alle unterschiedliche Schwerpunkte haben. Damit alle den passenden Termin finden\, hier ein Überblick: \nHeiligabend | 24. Dezember \n\n🥐 Weihnachten für alle \nGemeinsamer Brunch\n11-14 Uhr \nBürgerzentrum Nippes Altenberger Hof \nMauenheimer Str. 92\,50733 Köln \n🔔  Weihnachten für Kinder\nGottesdienst Gemeinsam (bis 8 Jahre)\nMit dem Mitmachweihnachtsstück „Süßer die Glocken“ der Kinder aus Nippes & Umgebung\n14:30 Uhr | Pfarrerin Dorothea Ugi\n \n🦌 Weihnachten mit den Konfis\nGottesdienst Gemeinsam (ab 9 Jahren)\nMit dem Weihnachtsstück der Konfis\n16 Uhr | Pfarrerin Miriam Haseleu  \n🎁 Feierliche Christvesper\n18 Uhr | Pfarrer Thomas Weckelmann\n \n💫 Christnacht\n23 Uhr | Pfarrer Thomas Diederichs \n  \nWeihnachten | 25. & 26. Dezember \n\n🎄 Festlicher Gottesdienst\nGottesdienst zum ersten Weihnachtsfeiertag\n11 Uhr | Pfarrerin Miriam Haseleu\n \n🎶 Loss mer Weihnachtslieder singe\nGottesdienst zum zweiten Weihnachtsfeiertag\n11 Uhr | Pfarrer Thomas Diederichs
URL:https://www.lutherkirche-nippes.de/termin/weihnachten-im-ueberblick-25/
LOCATION:Lutherkirche Nippes\, Siebachstraße 85\, Köln\, NRW\, 50733\, Deutschland
CATEGORIES:Fest,Gottesdienst,Gottesdienst Gemeinsam
ATTACH;FMTTYPE=image/jpeg:https://www.lutherkirche-nippes.de/wp-content/uploads/2021/11/Insta-Weihnachten-2021.jpg
END:VEVENT
BEGIN:VEVENT
DTSTART;TZID=Europe/Berlin:20251225T110000
DTEND;TZID=Europe/Berlin:20251225T120000
DTSTAMP:20260421T184514
CREATED:20251120T162805Z
LAST-MODIFIED:20251219T120726Z
UID:12691-1766660400-1766664000@www.lutherkirche-nippes.de
SUMMARY:Gottesdienst zum 1. Weihnachtstag
DESCRIPTION:🎄\nRuhiger\, festlicher Gottesdienst \nmit Musik & Texten zum Fest der Liebe\n\n📅   Do\, 25. Dezember 2025\n⏰   11 Uhr\n📍   Lutherkirche Nippes \n\nMit Miriam Haseleu\nTexte: Mia Kamps | Musik: Sigrun Terletzki (Orgel) | Carolin Soyka (Klavier und Gesang)\n \n\n\n Online spenden\n\nSpenden für unsere Kollektenzwecke funktioniert auch per Onlineüberweisung. \nDie Kontodaten dafür finden Sie im Bereich Spenden. \nVielen Dank für Ihre Unterstützung! \n\n  \n  \n  \n  \n  \n 
URL:https://www.lutherkirche-nippes.de/termin/01weihnachtstag2025/
LOCATION:Lutherkirche Nippes\, Siebachstraße 85\, Köln\, NRW\, 50733\, Deutschland
CATEGORIES:Fest,Gottesdienst,Online,Zeit für Kinder
ATTACH;FMTTYPE=image/jpeg:https://www.lutherkirche-nippes.de/wp-content/uploads/2025/11/Website-1.-Weihnachtstag-20252-scaled.jpg
END:VEVENT
END:VCALENDAR