BEGIN:VCALENDAR
VERSION:2.0
PRODID:-//Evangelische Kirchengemeinde Köln-Nippes - ECPv6.15.12.2//NONSGML v1.0//EN
CALSCALE:GREGORIAN
METHOD:PUBLISH
X-WR-CALNAME:Evangelische Kirchengemeinde Köln-Nippes
X-ORIGINAL-URL:https://www.lutherkirche-nippes.de
X-WR-CALDESC:Veranstaltungen für Evangelische Kirchengemeinde Köln-Nippes
REFRESH-INTERVAL;VALUE=DURATION:PT1H
X-Robots-Tag:noindex
X-PUBLISHED-TTL:PT1H
BEGIN:VTIMEZONE
TZID:Europe/Berlin
BEGIN:DAYLIGHT
TZOFFSETFROM:+0100
TZOFFSETTO:+0200
TZNAME:CEST
DTSTART:20250330T010000
END:DAYLIGHT
BEGIN:STANDARD
TZOFFSETFROM:+0200
TZOFFSETTO:+0100
TZNAME:CET
DTSTART:20251026T010000
END:STANDARD
BEGIN:DAYLIGHT
TZOFFSETFROM:+0100
TZOFFSETTO:+0200
TZNAME:CEST
DTSTART:20260329T010000
END:DAYLIGHT
BEGIN:STANDARD
TZOFFSETFROM:+0200
TZOFFSETTO:+0100
TZNAME:CET
DTSTART:20261025T010000
END:STANDARD
BEGIN:DAYLIGHT
TZOFFSETFROM:+0100
TZOFFSETTO:+0200
TZNAME:CEST
DTSTART:20270328T010000
END:DAYLIGHT
BEGIN:STANDARD
TZOFFSETFROM:+0200
TZOFFSETTO:+0100
TZNAME:CET
DTSTART:20271031T010000
END:STANDARD
END:VTIMEZONE
BEGIN:VEVENT
DTSTART;TZID=Europe/Berlin:20260222T110000
DTEND;TZID=Europe/Berlin:20260222T120000
DTSTAMP:20260421T170547
CREATED:20251205T043336Z
LAST-MODIFIED:20260220T081747Z
UID:12758-1771758000-1771761600@www.lutherkirche-nippes.de
SUMMARY:Gottesdienst
DESCRIPTION:Sonntagsgottesdienst\nmit Abendmahl \nMit Pfarrerin Miriam Haseleu. \n📅 Sonntag\, 22. Februar 2026\n⏰ 11 Uhr\n📍 Lutherkirche Nippes \n \n\n \n\nOnline spenden \nSpenden für unsere Kollektenzwecke funktioniert auch per Überweisung. \nUnsere Kontodaten finden Sie im Bereich Spenden. \nVielen Dank für Ihre Unterstützung! \n \n\n[/bs_col] \n\n  \n 
URL:https://www.lutherkirche-nippes.de/termin/gottesdienst-260222/
LOCATION:Lutherkirche Nippes\, Siebachstraße 85\, Köln\, NRW\, 50733\, Deutschland
CATEGORIES:Gottesdienst
ATTACH;FMTTYPE=image/png:https://www.lutherkirche-nippes.de/wp-content/uploads/2025/12/Bildschirmfoto-2025-12-04-um-23.50.55.png
END:VEVENT
BEGIN:VEVENT
DTSTART;TZID=Europe/Berlin:20260222T110000
DTEND;TZID=Europe/Berlin:20260222T120000
DTSTAMP:20260421T170547
CREATED:20251205T054601Z
LAST-MODIFIED:20260119T112300Z
UID:12832-1771758000-1771761600@www.lutherkirche-nippes.de
SUMMARY:Gottesdienst für Kinder
DESCRIPTION:💪🏼 Unser Thema in diesem Gottesdienst:\nMein Körper gehört mir! \nFür Kinder von 5 bis 10 Jahren \nMit Pfarrperson Elias Mögling & dem Team von Zeit für Kinder \n📅 Sonntag\, 22. Februar 2026\n⏰ 11 Uhr\n📍 Gemeindehaus \n \n\n\n\n\n\n \n\n\n \nUnterstützt unser Projekt \nmit dem Betreff „Zeit für Kinder“\n\n\n \n\n\n\n\n\n \n 
URL:https://www.lutherkirche-nippes.de/termin/kindergottesdienst-2602/
LOCATION:Gemeindehaus\, Siebachstr. 85\, Köln\, 50733
CATEGORIES:Gottesdienst,Gottesdienste für Kinder,Zeit für Kinder
ATTACH;FMTTYPE=image/jpeg:https://www.lutherkirche-nippes.de/wp-content/uploads/2025/12/A3-Plakat-Gottesdienste-fuer-Kinder-26024.jpg
END:VEVENT
END:VCALENDAR