BEGIN:VCALENDAR
VERSION:2.0
PRODID:-//Evangelische Kirchengemeinde Köln-Nippes - ECPv6.15.12.2//NONSGML v1.0//EN
CALSCALE:GREGORIAN
METHOD:PUBLISH
X-WR-CALNAME:Evangelische Kirchengemeinde Köln-Nippes
X-ORIGINAL-URL:https://www.lutherkirche-nippes.de
X-WR-CALDESC:Veranstaltungen für Evangelische Kirchengemeinde Köln-Nippes
REFRESH-INTERVAL;VALUE=DURATION:PT1H
X-Robots-Tag:noindex
X-PUBLISHED-TTL:PT1H
BEGIN:VTIMEZONE
TZID:Europe/Berlin
BEGIN:DAYLIGHT
TZOFFSETFROM:+0100
TZOFFSETTO:+0200
TZNAME:CEST
DTSTART:20250330T010000
END:DAYLIGHT
BEGIN:STANDARD
TZOFFSETFROM:+0200
TZOFFSETTO:+0100
TZNAME:CET
DTSTART:20251026T010000
END:STANDARD
BEGIN:DAYLIGHT
TZOFFSETFROM:+0100
TZOFFSETTO:+0200
TZNAME:CEST
DTSTART:20260329T010000
END:DAYLIGHT
BEGIN:STANDARD
TZOFFSETFROM:+0200
TZOFFSETTO:+0100
TZNAME:CET
DTSTART:20261025T010000
END:STANDARD
BEGIN:DAYLIGHT
TZOFFSETFROM:+0100
TZOFFSETTO:+0200
TZNAME:CEST
DTSTART:20270328T010000
END:DAYLIGHT
BEGIN:STANDARD
TZOFFSETFROM:+0200
TZOFFSETTO:+0100
TZNAME:CET
DTSTART:20271031T010000
END:STANDARD
END:VTIMEZONE
BEGIN:VEVENT
DTSTART;TZID=Europe/Berlin:20260302T200000
DTEND;TZID=Europe/Berlin:20260302T220000
DTSTAMP:20260421T170722
CREATED:20251205T065238Z
LAST-MODIFIED:20260127T212954Z
UID:12899-1772481600-1772488800@www.lutherkirche-nippes.de
SUMMARY:Momente für Eltern
DESCRIPTION:Eltern kommen zusammen\, tauschen sich aus\, teilen kostbare Momente miteinander. \nEndlich Frühling!\nGesunde Shots oder kaltes Bier? Bei uns gibt’s beides!\n📅  Montag\, 2. März 2026\n⏰  20 Uhr\n📍 Gemeindehaus \n\nEinen Moment\, bitte! \nViele Eltern werden diese Bitte im Alltag vermutlich täglich aussprechen. An die eigenen Kinder\, Arbeitskolleg*innen\, Freund*innen\, Verwandte oder den bzw die Partner*in. Manchmal braucht es einen Moment. Einen Moment Zeit\, Pause\, Entspannen\, Nicht-Denken-Müssen\, Ruhe\, Nicht-alles- gleichzeitig-machen-Müssen. \nDiese Sehnsucht haben viele Eltern. Einigen gelingt es\, diese Momente im Hobby\, mit lieben Menschen oder im Reisen zu erleben. Einige wollen nur noch alleine sein und auf dem Sofa versacken\, schlafen\, streamen\, lesen\, daddeln\, wenn die Kinder schlafen oder versorgt sind. Einen Moment eben. \nKann so ein Moment…\n\n…auch in Gemeinschaft mit anderen Eltern erlebt und geteilt werden? Wir möchten es ausprobieren. Wir schenken uns Momente. Momente der Freude\, der Zuversicht\, der Wut\, der Angst\, der Nähe. Momente\, die wir so gestalten können\, wie wir es wollen und brauchen. Wir kommen zusammen\, bringen einen Impuls mit und schauen\, was dieser Moment mit uns macht. \nWir möchten Raum schaffen für all das\, was uns bewegt als Eltern. \nAls Personen. Schenken wir uns doch diese Momente. Wir freuen uns auf euch! \n \n\nmomente.fuer.eltern@ \nFragen? \n\n\n\n\n\nTeam Momente für Eltern\nAnne Kolorz\nanne.kolorz@gmail.com\nAndreas Bläse\nandrea.blaese@gmail.com \n \n\n\n\n\n\n\n\n\n\n\nEin Projekt von:\n \nwww.hierundweiter.de \n\n\n \n\n \n\n\n\n\n \n  \n  \n  \n 
URL:https://www.lutherkirche-nippes.de/termin/elternmomente-2603/
LOCATION:Gemeindehaus\, Deutschland
CATEGORIES:Dialog,Momente
ATTACH;FMTTYPE=image/png:https://www.lutherkirche-nippes.de/wp-content/uploads/2025/12/Bildschirmfoto-2026-01-27-um-22.29.12.png
END:VEVENT
END:VCALENDAR