BEGIN:VCALENDAR
VERSION:2.0
PRODID:-//Evangelische Kirchengemeinde Köln-Nippes - ECPv6.15.12.2//NONSGML v1.0//EN
CALSCALE:GREGORIAN
METHOD:PUBLISH
X-ORIGINAL-URL:https://www.lutherkirche-nippes.de
X-WR-CALDESC:Veranstaltungen für Evangelische Kirchengemeinde Köln-Nippes
REFRESH-INTERVAL;VALUE=DURATION:PT1H
X-Robots-Tag:noindex
X-PUBLISHED-TTL:PT1H
BEGIN:VTIMEZONE
TZID:Europe/Berlin
BEGIN:DAYLIGHT
TZOFFSETFROM:+0100
TZOFFSETTO:+0200
TZNAME:CEST
DTSTART:20250330T010000
END:DAYLIGHT
BEGIN:STANDARD
TZOFFSETFROM:+0200
TZOFFSETTO:+0100
TZNAME:CET
DTSTART:20251026T010000
END:STANDARD
BEGIN:DAYLIGHT
TZOFFSETFROM:+0100
TZOFFSETTO:+0200
TZNAME:CEST
DTSTART:20260329T010000
END:DAYLIGHT
BEGIN:STANDARD
TZOFFSETFROM:+0200
TZOFFSETTO:+0100
TZNAME:CET
DTSTART:20261025T010000
END:STANDARD
BEGIN:DAYLIGHT
TZOFFSETFROM:+0100
TZOFFSETTO:+0200
TZNAME:CEST
DTSTART:20270328T010000
END:DAYLIGHT
BEGIN:STANDARD
TZOFFSETFROM:+0200
TZOFFSETTO:+0100
TZNAME:CET
DTSTART:20271031T010000
END:STANDARD
END:VTIMEZONE
BEGIN:VEVENT
DTSTART;TZID=Europe/Berlin:20260327T160000
DTEND;TZID=Europe/Berlin:20260327T173000
DTSTAMP:20260421T194953
CREATED:20251205T063311Z
LAST-MODIFIED:20260320T062038Z
UID:12870-1774627200-1774632600@www.lutherkirche-nippes.de
SUMMARY:Offenes Trauercafé
DESCRIPTION:Trauern braucht Zeit und Trost. Zeit für Erinnerung\, Zeit für Stille\, Zeit für neue Schritte. \nManchmal tut es gut\, Zeit in Gemeinschaft mit Menschen zu verbringen\, die ähnliches erleben. Die Trauergruppe bietet einen geschützten Raum für Austausch und kleine Impulse. Einen Raum für Sie und Ihre Trauer mit allen Facetten. Wir laden alle ein\, die um einen Menschen trauern. \nEine Anmeldung ist nicht nötig. \n📅  Montag\, 27. März 2026\n⏰ 16-17:30 Uhr\n📍Café Fink (nur für unsere Gruppe geöffnet)\n(Siebachstr. 50\, 50733 Köln) \nNächste Termine dieses Jahr:\n29. Mai | 31. Juli \n\nFeste Trauergruppe\nAlternativ gibt es die Möglichkeit an einer festen Trauergruppe teilzunehmen\, \ndie sich einmal monatlich geschlossen trifft. \n Jetzt vormerken!\nHier online oder direkt bei Miriam Haseleu / Dorit Felsch an. \n\n\nKontakt \n\n\n\nMiriam Haseleu\n0221 – 29 86 87 95\nmiriam.haseleu@ekir.de\nDorit Felsch\n0221 – 33 82 199\ndorit.felsch@ekir.de\n\n\n\n \n \n\n 
URL:https://www.lutherkirche-nippes.de/termin/trauercafe-2603/
LOCATION:Café Fink\, Siebachstraße 50\, Köln\, 50733\, Deutschland
CATEGORIES:Dialog
ATTACH;FMTTYPE=image/jpeg:https://www.lutherkirche-nippes.de/wp-content/uploads/2024/11/Medien-Trauercafé-.jpg
END:VEVENT
BEGIN:VEVENT
DTSTART;TZID=Europe/Berlin:20260327T160000
DTEND;TZID=Europe/Berlin:20260327T180000
DTSTAMP:20260421T194953
CREATED:20260116T091149Z
LAST-MODIFIED:20260116T091221Z
UID:13170-1774627200-1774634400@www.lutherkirche-nippes.de
SUMMARY:Playday – Inklusiver Spielenachmittag für Jugendliche
DESCRIPTION:Freitags* laden wir ein: \nSpielenachmittag für Jugendliche\nGemeindehaus (barrierefrei) | 16-18 Uhr \nNächste Treffen:\n24.4. | 22.5. | 12.6. | 26.6. | 10.7.\n\n \n Bring gerne dein Lieblingsspiel mit Brettspiel\, Kartenspiel\, Würfelspiel…!\n Inklusiv! Jede*r ist willkommen – einfach vorbeikommen und mitspielen.  \n* Der Spieletreff pausiert in Schulferien & an Feiertagen\n \n\nBei Fragen\, meldet euch gerne:\nPetra Knopp\n01 72 | 21 50 657 \n\n \n 
URL:https://www.lutherkirche-nippes.de/termin/zeitfuerkinder-playday-260327/
LOCATION:Gemeindehaus\, Siebachstr. 85\, Köln\, 50733
CATEGORIES:Jugend,Spaß,Spiele
ATTACH;FMTTYPE=image/png:https://www.lutherkirche-nippes.de/wp-content/uploads/2025/08/Bildschirmfoto-2025-09-01-um-12.43.46.png
END:VEVENT
BEGIN:VEVENT
DTSTART;TZID=Europe/Berlin:20260327T170000
DTEND;TZID=Europe/Berlin:20260327T180000
DTSTAMP:20260421T194953
CREATED:20251205T064412Z
LAST-MODIFIED:20260324T082644Z
UID:12884-1774630800-1774634400@www.lutherkirche-nippes.de
SUMMARY:Walk 'n' Talk: Spaziertreff im Veedel
DESCRIPTION:Angebote für Körper & Seele\n👣 Gemeinsam durch Nippes spazieren \nWir möchten Gemeinschaft stiften und fördern\, Austausch und lebendige Gespräche. \nWer Lust hat\, ist herzlich eingeladen – wir starten unseren neuer Spaziertreff Walk & Talk! \nMit Gisela Keuerleber.\nEs ist keine Anmeldung notwendig. \nDas Geheimnis des Vorwärtskommens besteht darin\, den ersten Schritt zu tun. (Mark Twain)  \n📅 Freitag\, 27. März 2026\n⏰ 17 Uhr\n📍Treffpunkt Lutherkirche \n  \n\nKontakt \n\n\n\n\n\nGisela Keuerleber\n0221 | 73 91 436\n0173 | 27 19 072\n\n\n\n\n\n  \n  \n 
URL:https://www.lutherkirche-nippes.de/termin/walkntalk-2603/
LOCATION:Lutherkirche Nippes\, Siebachstraße 85\, Köln\, NRW\, 50733\, Deutschland
CATEGORIES:Dialog,Momente
ATTACH;FMTTYPE=image/jpeg:https://www.lutherkirche-nippes.de/wp-content/uploads/2025/09/Insta-WalknTalk-20252.jpg
END:VEVENT
END:VCALENDAR