BEGIN:VCALENDAR
VERSION:2.0
PRODID:-//Evangelische Kirchengemeinde Köln-Nippes - ECPv6.15.12.2//NONSGML v1.0//EN
CALSCALE:GREGORIAN
METHOD:PUBLISH
X-WR-CALNAME:Evangelische Kirchengemeinde Köln-Nippes
X-ORIGINAL-URL:https://www.lutherkirche-nippes.de
X-WR-CALDESC:Veranstaltungen für Evangelische Kirchengemeinde Köln-Nippes
REFRESH-INTERVAL;VALUE=DURATION:PT1H
X-Robots-Tag:noindex
X-PUBLISHED-TTL:PT1H
BEGIN:VTIMEZONE
TZID:Europe/Berlin
BEGIN:DAYLIGHT
TZOFFSETFROM:+0100
TZOFFSETTO:+0200
TZNAME:CEST
DTSTART:20250330T010000
END:DAYLIGHT
BEGIN:STANDARD
TZOFFSETFROM:+0200
TZOFFSETTO:+0100
TZNAME:CET
DTSTART:20251026T010000
END:STANDARD
BEGIN:DAYLIGHT
TZOFFSETFROM:+0100
TZOFFSETTO:+0200
TZNAME:CEST
DTSTART:20260329T010000
END:DAYLIGHT
BEGIN:STANDARD
TZOFFSETFROM:+0200
TZOFFSETTO:+0100
TZNAME:CET
DTSTART:20261025T010000
END:STANDARD
BEGIN:DAYLIGHT
TZOFFSETFROM:+0100
TZOFFSETTO:+0200
TZNAME:CEST
DTSTART:20270328T010000
END:DAYLIGHT
BEGIN:STANDARD
TZOFFSETFROM:+0200
TZOFFSETTO:+0100
TZNAME:CET
DTSTART:20271031T010000
END:STANDARD
END:VTIMEZONE
BEGIN:VEVENT
DTSTART;TZID=Europe/Berlin:20260402T185900
DTEND;TZID=Europe/Berlin:20260406T123000
DTSTAMP:20260421T180905
CREATED:20251205T044245Z
LAST-MODIFIED:20260327T080217Z
UID:12771-1775156340-1775478600@www.lutherkirche-nippes.de
SUMMARY:Ostern im Überblick
DESCRIPTION:Gründonnerstag / Karfreitag \n\n🥖 02. April\nBrot & Liebe zu Gründonnerstag\n19 Uhr | Pfarrerinnen Dorit Felsch und Miriam Haseleu \n03. April\nGottesdienst am Karfreitag\n11 Uhr | Pfarrer Thomas Diederichs \n \n  \nOstern \n\n04. April\nGottesdienst in der Osternacht\n21 Uhr | Pfarrer Thomas Diederichs\n \n🐣 05. April\nGottesdienst Gemeinsam am Ostersonntag\n11 Uhr | Pfarrerin Miriam Haseleu \n \n🐇 06. April\nGottesdienst am Ostermontag \n11 Uhr | Pfarrperson Elias Mögling
URL:https://www.lutherkirche-nippes.de/termin/ostern2026/
LOCATION:Lutherkirche Nippes\, Siebachstraße 85\, Köln\, NRW\, 50733\, Deutschland
CATEGORIES:Fest
ATTACH;FMTTYPE=image/jpeg:https://www.lutherkirche-nippes.de/wp-content/uploads/2025/03/Medien-Ostern-2025.jpg
END:VEVENT
BEGIN:VEVENT
DTSTART;TZID=Europe/Berlin:20260406T110000
DTEND;TZID=Europe/Berlin:20260406T120000
DTSTAMP:20260421T180905
CREATED:20251205T050618Z
LAST-MODIFIED:20260331T080610Z
UID:12788-1775473200-1775476800@www.lutherkirche-nippes.de
SUMMARY:Gottesdienst am Ostermontag
DESCRIPTION:Gottesdienst am Ostermontag \nMit Abendmahl. \nMit Pfarrperson Elias Mögling \n📅 Montag\, 06. April 2026\n⏰ 11 Uhr\n📍 Lutherkirche Nippes \n  \n \n\n\n\nOnline spenden \nSpenden für unsere Kollektenzwecke funktioniert auch per Überweisung. Die Kontodaten dazu finden Sie im Bereich Spenden. \nVielen Dank für Ihre Unterstützung! \n \n\n \n\n  \n 
URL:https://www.lutherkirche-nippes.de/termin/ostermontag2026/
LOCATION:Lutherkirche Nippes\, Siebachstraße 85\, Köln\, NRW\, 50733\, Deutschland
CATEGORIES:Fest,Gottesdienst
ATTACH;FMTTYPE=image/jpeg:https://www.lutherkirche-nippes.de/wp-content/uploads/2025/12/Instastory-Ostern-20266-1.jpg
END:VEVENT
END:VCALENDAR