BEGIN:VCALENDAR
VERSION:2.0
PRODID:-//Evangelische Kirchengemeinde Köln-Nippes - ECPv6.15.12.2//NONSGML v1.0//EN
CALSCALE:GREGORIAN
METHOD:PUBLISH
X-WR-CALNAME:Evangelische Kirchengemeinde Köln-Nippes
X-ORIGINAL-URL:https://www.lutherkirche-nippes.de
X-WR-CALDESC:Veranstaltungen für Evangelische Kirchengemeinde Köln-Nippes
REFRESH-INTERVAL;VALUE=DURATION:PT1H
X-Robots-Tag:noindex
X-PUBLISHED-TTL:PT1H
BEGIN:VTIMEZONE
TZID:Europe/Berlin
BEGIN:DAYLIGHT
TZOFFSETFROM:+0100
TZOFFSETTO:+0200
TZNAME:CEST
DTSTART:20250330T010000
END:DAYLIGHT
BEGIN:STANDARD
TZOFFSETFROM:+0200
TZOFFSETTO:+0100
TZNAME:CET
DTSTART:20251026T010000
END:STANDARD
BEGIN:DAYLIGHT
TZOFFSETFROM:+0100
TZOFFSETTO:+0200
TZNAME:CEST
DTSTART:20260329T010000
END:DAYLIGHT
BEGIN:STANDARD
TZOFFSETFROM:+0200
TZOFFSETTO:+0100
TZNAME:CET
DTSTART:20261025T010000
END:STANDARD
BEGIN:DAYLIGHT
TZOFFSETFROM:+0100
TZOFFSETTO:+0200
TZNAME:CEST
DTSTART:20270328T010000
END:DAYLIGHT
BEGIN:STANDARD
TZOFFSETFROM:+0200
TZOFFSETTO:+0100
TZNAME:CET
DTSTART:20271031T010000
END:STANDARD
END:VTIMEZONE
BEGIN:VEVENT
DTSTART;TZID=Europe/Berlin:20260525T200000
DTEND;TZID=Europe/Berlin:20260525T223000
DTSTAMP:20260421T181350
CREATED:20240419T165244Z
LAST-MODIFIED:20260417T080814Z
UID:10386-1779739200-1779748200@www.lutherkirche-nippes.de
SUMMARY:THE LAST WALTZ - Pfingston Town
DESCRIPTION:„The Last Waltz“ – Gottesdienst am Pfingstmontag! \nDas wird die Party des Jahrhunderts… und der letzte Gottesdienst mit Thomas Diederichs\nUnser Gottesdienst am Pfingstmontag bietet wieder einmal „Pfingston Town“ ab 20 Uhr. \nMit Pfarrer Thomas Diederichs und der Familie „Love“. \nRückblick: Pfingston Town 2023 \n  \n \n\nOnline spenden \n\nSpenden für unsere Kollektenzwecke funktioniert auch per Überweisung. \nDie dazugehörigen Kontodaten finden Sie im Bereich Spenden.\nVielen Dank für Ihre Unterstützung! \n[/bs_col][/bs_row] \n\n\n  \n 
URL:https://www.lutherkirche-nippes.de/termin/pfingstmontag-2026/
LOCATION:Lutherkirche Nippes\, Siebachstraße 85\, Köln\, NRW\, 50733\, Deutschland
CATEGORIES:Fest,Gottesdienst
ATTACH;FMTTYPE=image/jpeg:https://www.lutherkirche-nippes.de/wp-content/uploads/2026/04/Last-Waltz_4_3.jpg
END:VEVENT
END:VCALENDAR