BEGIN:VCALENDAR
VERSION:2.0
PRODID:-//Evangelische Kirchengemeinde Köln-Nippes - ECPv6.15.12.2//NONSGML v1.0//EN
CALSCALE:GREGORIAN
METHOD:PUBLISH
X-ORIGINAL-URL:https://www.lutherkirche-nippes.de
X-WR-CALDESC:Veranstaltungen für Evangelische Kirchengemeinde Köln-Nippes
REFRESH-INTERVAL;VALUE=DURATION:PT1H
X-Robots-Tag:noindex
X-PUBLISHED-TTL:PT1H
BEGIN:VTIMEZONE
TZID:Europe/Berlin
BEGIN:DAYLIGHT
TZOFFSETFROM:+0100
TZOFFSETTO:+0200
TZNAME:CEST
DTSTART:20250330T010000
END:DAYLIGHT
BEGIN:STANDARD
TZOFFSETFROM:+0200
TZOFFSETTO:+0100
TZNAME:CET
DTSTART:20251026T010000
END:STANDARD
BEGIN:DAYLIGHT
TZOFFSETFROM:+0100
TZOFFSETTO:+0200
TZNAME:CEST
DTSTART:20260329T010000
END:DAYLIGHT
BEGIN:STANDARD
TZOFFSETFROM:+0200
TZOFFSETTO:+0100
TZNAME:CET
DTSTART:20261025T010000
END:STANDARD
BEGIN:DAYLIGHT
TZOFFSETFROM:+0100
TZOFFSETTO:+0200
TZNAME:CEST
DTSTART:20270328T010000
END:DAYLIGHT
BEGIN:STANDARD
TZOFFSETFROM:+0200
TZOFFSETTO:+0100
TZNAME:CET
DTSTART:20271031T010000
END:STANDARD
END:VTIMEZONE
BEGIN:VEVENT
DTSTART;TZID=Europe/Berlin:20260726T120000
DTEND;TZID=Europe/Berlin:20260726T130000
DTSTAMP:20260423T144603
CREATED:20251205T052528Z
LAST-MODIFIED:20251205T052637Z
UID:12808-1785067200-1785070800@www.lutherkirche-nippes.de
SUMMARY:Café im Kirchgarten
DESCRIPTION:☕ 🌳 Unser Café im Grünen \nDas Café im Kirchgarten lädt zum Verweilen ein. Nach dem Gottesdienst bietet sich die Möglichkeit\, den Garten um die Kirche herum zu genießen. Bei Kaffee und Schorle kommt man in unserem Café miteinander ins Gespräch. \nWir freuen uns auf ein Miteinander unter dem sommerlichen Kirschbaum. \n📅 Sonntag\, 26. Juli 2026\n⏰ 12 Uhr\n📍Kirchgarten Lutherkirche Nippes \n\nKommende Termine dieses Jahr: \n30. August | 27. September \n 
URL:https://www.lutherkirche-nippes.de/termin/cik-260726/
LOCATION:Kirchgarten\, Lutherkirche Nippes\, Siebachstraße\, Köln\, Deutschland\, 50733\, Deutschland
CATEGORIES:Café,Dialog
ATTACH;FMTTYPE=image/jpeg:https://www.lutherkirche-nippes.de/wp-content/uploads/2024/05/Medien-Cafe-im-Kirchgarten-20244.jpg
END:VEVENT
BEGIN:VEVENT
DTSTART;TZID=Europe/Berlin:20260731T160000
DTEND;TZID=Europe/Berlin:20260731T173000
DTSTAMP:20260423T144603
CREATED:20251205T063632Z
LAST-MODIFIED:20260402T052242Z
UID:12874-1785513600-1785519000@www.lutherkirche-nippes.de
SUMMARY:Offenes Trauercafé
DESCRIPTION:Trauern braucht Zeit und Trost. Zeit für Erinnerung\, Zeit für Stille\, Zeit für neue Schritte. \nManchmal tut es gut\, Zeit in Gemeinschaft mit Menschen zu verbringen\, die ähnliches erleben. Die Trauergruppe bietet einen geschützten Raum für Austausch und kleine Impulse. Einen Raum für Sie und Ihre Trauer mit allen Facetten. Wir laden alle ein\, die um einen Menschen trauern. \nEine Anmeldung ist nicht nötig. \n📅  Freitag\, 31. Juli 2026\n⏰ 16-17:30 Uhr\n📍Café Fink (nur für unsere Gruppe geöffnet)\n(Siebachstr. 50\, 50733 Köln) \n \n\nFeste Trauergruppe\nAlternativ gibt es die Möglichkeit an einer festen Trauergruppe teilzunehmen\, \ndie sich einmal monatlich geschlossen trifft.\n Jetzt vormerken!\nHier online oder direkt bei Miriam Haseleu / Dorit Felsch an. \n\n\nKontakt \n\n\n\nMiriam Haseleu\n0221 – 29 86 87 95\nmiriam.haseleu@ekir.de\nDorit Felsch\n0221 – 33 82 199\ndorit.felsch@ekir.de\n\n\n\n \n \n\n 
URL:https://www.lutherkirche-nippes.de/termin/trauercafe-2607/
LOCATION:Café Fink\, Siebachstraße 50\, Köln\, 50733\, Deutschland
CATEGORIES:Dialog
ATTACH;FMTTYPE=image/jpeg:https://www.lutherkirche-nippes.de/wp-content/uploads/2024/11/Medien-Trauercafé-.jpg
END:VEVENT
BEGIN:VEVENT
DTSTART;TZID=Europe/Berlin:20260830T120000
DTEND;TZID=Europe/Berlin:20260830T130000
DTSTAMP:20260423T144603
CREATED:20251205T052657Z
LAST-MODIFIED:20251205T052751Z
UID:12810-1788091200-1788094800@www.lutherkirche-nippes.de
SUMMARY:Café im Kirchgarten
DESCRIPTION:☕ 🌳 Unser Café im Grünen \nDas Café im Kirchgarten lädt zum Verweilen ein. Nach dem Gottesdienst bietet sich die Möglichkeit\, den Garten um die Kirche herum zu genießen. Bei Kaffee und Schorle kommt man in unserem Café miteinander ins Gespräch. \nWir freuen uns auf ein Miteinander unter dem sommerlichen Kirschbaum. \n📅 Sonntag\, 30. August 2026\n⏰ 12 Uhr\n📍Kirchgarten Lutherkirche Nippes \n\nLetzter Termin dieses Jahr: \n27. September \n 
URL:https://www.lutherkirche-nippes.de/termin/cik-260830/
LOCATION:Kirchgarten\, Lutherkirche Nippes\, Siebachstraße\, Köln\, Deutschland\, 50733\, Deutschland
CATEGORIES:Café,Dialog
ATTACH;FMTTYPE=image/jpeg:https://www.lutherkirche-nippes.de/wp-content/uploads/2024/05/Medien-Cafe-im-Kirchgarten-20244.jpg
END:VEVENT
BEGIN:VEVENT
DTSTART;TZID=Europe/Berlin:20260906T110000
DTEND;TZID=Europe/Berlin:20260906T123000
DTSTAMP:20260423T144603
CREATED:20251205T060236Z
LAST-MODIFIED:20260116T112704Z
UID:12851-1788692400-1788697800@www.lutherkirche-nippes.de
SUMMARY:Gottesdienst Gemeinsam zum Tauffest im Grünen
DESCRIPTION:🍒🌳 Taufen unterm Kirschbaum\n \n📅 Sonntag\, 06. September 2026\n⏰ 11 Uhr\n📍 Lutherkirche Nippes \nBeim sommerlichen Gottesdienst unter freiem Himmel taufen wir unter unserem Kirschbaum im Kirchgarten der Lutherkirche Nippes. \nHaben Sie Lust\, dabei zu sein?\nWenn Sie Ihr Kind oder sich selbst in diesem Gottesdienst taufen lassen möchten\, melden Sie sich online an –\nunsere PfarrerInnen melden sich mit näheren Infos und zur Absprache der Organisation bei Ihnen zurück! \n👉 Hier gehts zur Anmeldung \nWir freuen uns auf ein fröhliches\, buntes Fest im Sommer 2026! \nMit Pfarrerin Miriam Haseleu  \n \n \n\n\n \n \nUnterstützt unser Projekt \nmit dem Betreff „Zeit für Kinder“
URL:https://www.lutherkirche-nippes.de/termin/gg-tauffest-2026/
LOCATION:Kirchgarten\, Lutherkirche Nippes\, Siebachstraße\, Köln\, Deutschland\, 50733\, Deutschland
CATEGORIES:Fest,Gottesdienst,Gottesdienst Gemeinsam
ATTACH;FMTTYPE=image/jpeg:https://www.lutherkirche-nippes.de/wp-content/uploads/2025/12/Insta-Tauffest-2026.jpg
END:VEVENT
BEGIN:VEVENT
DTSTART;TZID=Europe/Berlin:20260913T110000
DTEND;TZID=Europe/Berlin:20260913T120000
DTSTAMP:20260423T144603
CREATED:20251205T055737Z
LAST-MODIFIED:20251205T055843Z
UID:12846-1789297200-1789300800@www.lutherkirche-nippes.de
SUMMARY:Gottesdienst für Kinder
DESCRIPTION:☀️ Unser Thema in diesem Gottesdienst:\nSommerperlen \nFür Kinder von 5 bis 10 Jahren \nMit dem Team von Zeit für Kinder \n📅 Sonntag\, 13. September 2026\n⏰ 11 Uhr\n📍 Gemeindehaus \n \n\n\n\n\n\n \n\n\n \nUnterstützt unser Projekt \nmit dem Betreff „Zeit für Kinder“\n\n\n \n\n\n\n\n\n \n 
URL:https://www.lutherkirche-nippes.de/termin/kindergottesdienst-2609/
LOCATION:Gemeindehaus\, Siebachstr. 85\, Köln\, 50733
CATEGORIES:Gottesdienst,Gottesdienste für Kinder,Zeit für Kinder
ATTACH;FMTTYPE=image/png:https://www.lutherkirche-nippes.de/wp-content/uploads/2024/09/Bildschirmfoto-2024-09-19-um-10.34.33-1.png
END:VEVENT
BEGIN:VEVENT
DTSTART;TZID=Europe/Berlin:20260927T120000
DTEND;TZID=Europe/Berlin:20260927T130000
DTSTAMP:20260423T144603
CREATED:20251205T052802Z
LAST-MODIFIED:20251205T052908Z
UID:12812-1790510400-1790514000@www.lutherkirche-nippes.de
SUMMARY:Café im Kirchgarten
DESCRIPTION:☕ 🌳 Unser Café im Grünen \nDas Café im Kirchgarten lädt zum Verweilen ein. Nach dem Gottesdienst bietet sich die Möglichkeit\, den Garten um die Kirche herum zu genießen. Bei Kaffee und Schorle kommt man in unserem Café miteinander ins Gespräch. \nWir freuen uns auf ein letztes Mal Miteinander unter dem spätsommerlichen Kirschbaum in diesem Jahr. \n📅 Sonntag\, 27. September 2026\n⏰ 12 Uhr\n📍Kirchgarten Lutherkirche Nippes \n \n 
URL:https://www.lutherkirche-nippes.de/termin/cik-260927/
LOCATION:Kirchgarten\, Lutherkirche Nippes\, Siebachstraße\, Köln\, Deutschland\, 50733\, Deutschland
CATEGORIES:Café,Dialog
ATTACH;FMTTYPE=image/jpeg:https://www.lutherkirche-nippes.de/wp-content/uploads/2024/05/Medien-Cafe-im-Kirchgarten-20244.jpg
END:VEVENT
BEGIN:VEVENT
DTSTART;TZID=Europe/Berlin:20261010T100000
DTEND;TZID=Europe/Berlin:20261010T130000
DTSTAMP:20260423T144603
CREATED:20260316T123711Z
LAST-MODIFIED:20260320T054320Z
UID:13432-1791626400-1791637200@www.lutherkirche-nippes.de
SUMMARY:Zeit für Draußen: Ab in den Wald!
DESCRIPTION:🌳 Wir erleben den Stadtwald\n \nGemeinsam erschaffen wir ein Naturerlebnis.\nMit Spielen und Aktionen und gemeinsamem Picknick.\n\n Treffpunkt \nWir fahren gemeinsam in den Stadtwald.\nTreffpunkt 09:45 Uhr an der Haltestelle Neusser Str. | Linie 13 \n Mitbringen \nBringt gerne etwas zu essen für eure Familien & zum Teilen mit.\nZieht euch im Zwiebellook\, wetterfest und wärmend zum Dreckigwerden an. \nAb Mitte März könnt ihr euch hier anmelden \nFür Kinder von 4 bis 10 Jahre und ihre Erwachsenen \nMit der Naturpädagogin Christina Panne \n📅 Samstag\, 10. Oktober 2026\n⏰ 10-13 Uhr\n📍 Stadtwald \n \n\n\n\n\n\n \n\n\n \nUnterstützt unser Projekt \nmit dem Betreff „Zeit für Kinder“\n\n\n \n\n\n\n\n\n \n[/bs_col][/bs_row] \n 
URL:https://www.lutherkirche-nippes.de/termin/zeitfuerkinder-2610/
LOCATION:Stadtwald
CATEGORIES:Natur,Spaß,Zeit für Kinder
ATTACH;FMTTYPE=image/jpeg:https://www.lutherkirche-nippes.de/wp-content/uploads/2025/09/Titelbild-Zeit-für-Draussen-2511.jpg
END:VEVENT
BEGIN:VEVENT
DTSTART;TZID=Europe/Berlin:20261121T153000
DTEND;TZID=Europe/Berlin:20261224T153000
DTSTAMP:20260423T144603
CREATED:20260317T120440Z
LAST-MODIFIED:20260317T120656Z
UID:13437-1795275000-1798126200@www.lutherkirche-nippes.de
SUMMARY:Zeit für Kinder: Weihnachten zum Mitmachen!
DESCRIPTION:Werde Teil von unserem Weihnachtsstück!\nDu bist zwischen 4 und 9 Jahren alt? \nWir proben in unserem Gemeindehaus\, in der Siebachstraße 85. \nUnsere Termine folgen im Herbst. \nAufführung:\n24.12. / 14:3o-15:30 Uhr\nim Gottesdienst Gemeinsam an Heiligabend \nAb September gibt es hier eine Anmeldemöglichkeit \nWir freuen uns auf dich!\nDein Zeit für Kinder-Team\n \n\nNoch Fragen? Wende dich an: \nElias Mögling\nelias.moegling@ekir.de \n \n 
URL:https://www.lutherkirche-nippes.de/termin/weihnachtsstueck-2026/
LOCATION:Gemeindehaus\, Siebachstr. 85\, Köln\, 50733
CATEGORIES:Fest,Gottesdienst Gemeinsam,Theater,Zeit für Kinder
ATTACH;FMTTYPE=image/png:https://www.lutherkirche-nippes.de/wp-content/uploads/2024/09/Bildschirmfoto-2024-09-19-um-10.34.33-1.png
END:VEVENT
BEGIN:VEVENT
DTSTART;TZID=Europe/Berlin:20261129T110000
DTEND;TZID=Europe/Berlin:20261129T120000
DTSTAMP:20260423T144603
CREATED:20260316T115426Z
LAST-MODIFIED:20260316T115545Z
UID:13420-1795950000-1795953600@www.lutherkirche-nippes.de
SUMMARY:Gottesdienst für Kinder
DESCRIPTION:☀️ Unser Thema in diesem Gottesdienst:\n \nWir sagen an…\n…den lieben Advent: Wir entdecken gemeinsam adventliche Momente und stimmen uns auf die Adventszeit ein.\n \nFür Kinder von 5 bis 10 Jahren\nMit dem Team von Zeit für Kinder \n📅 Sonntag\, 29. November 2026\n⏰ 11 Uhr\n📍 Gemeindehaus \n \n\n\n\n\n\n \n\n\n \nUnterstützt unser Projekt \nmit dem Betreff „Zeit für Kinder“\n\n\n \n\n\n\n\n\n \n 
URL:https://www.lutherkirche-nippes.de/termin/kindergottesdienst-2611/
LOCATION:Gemeindehaus\, Siebachstr. 85\, Köln\, 50733
CATEGORIES:Gottesdienst,Gottesdienste für Kinder,Zeit für Kinder
ATTACH;FMTTYPE=image/png:https://www.lutherkirche-nippes.de/wp-content/uploads/2024/09/Bildschirmfoto-2024-09-19-um-10.34.33-1.png
END:VEVENT
BEGIN:VEVENT
DTSTART;TZID=Europe/Berlin:20261212T120000
DTEND;TZID=Europe/Berlin:20261213T180000
DTSTAMP:20260423T144603
CREATED:20260317T114934Z
LAST-MODIFIED:20260317T115055Z
UID:13435-1797076800-1797184800@www.lutherkirche-nippes.de
SUMMARY:Weihnachtsmarkt 2026
DESCRIPTION:  \nZum dritten Advent lockt unser Weihnachtsmarkt rund um die Lutherkirche Nippes. \n12.- 13. Dezember 2026\n12 - 18 Uhr | Kirchgarten um die Lutherkirche \nHeiße Leckereien\, liebevoll Handgemachtes und ausgefallene Ideen laden zum Stöbern\, Genießen und Verweilen ein. \nAlle Generationen sind bei uns herzlich willkommen! \nAuch für Kinder ist viel buntes Treiben dabei. Das Karussell dreht sich\, am Lagerfeuer gibt es Stockbrot und eine Kerzenwerkstatt freut sich auf kreative Köpfe. Am Sonntag starten wir mit dem Gottesdienst Gemeinsam mit den KiTas der Gemeinde. \n♥️ Wir freuen uns sehr über Kuchenspenden für unsere Theke!  \nUnterstützt uns bei diesem Fest mit Kuchen\, Torten und auch gern kleinem Gebäck wie Muffins. \nSollte etwas Veganes dabei sein\, gebt uns gern Bescheid\, dann können wir es kennzeichnen. \nAlles Mitgebrachte kann gerne im Gemeindehaus bei uns an der Küche abgegeben werden – \nspäter können Bleche und Kuchenteller auch direkt wieder mitgenommen werden. \n\nSpezial 2026: Ein Stück Nippes \nDer Turm der Lutherkirche wird saniert. Die Baustelle zeigt auch\, dass wir mit unserem Kirchturm in die Zukunft gehen. So wie sich die Gemeinde mit den verschiedenen Menschen\, die zu ihr gehören\, entwickelt und verändert\, so erhält auch der Turm eine neue Spitze. \nDas Bauvorhaben ist kostspielig. Einen Teil des benötigten Geldes haben wir bereits aufbringen können\, unter anderem durch Zuschüsse der Denkmalförderung und auch durch Bundesmittel. Für den Rest benötigen wir weiterhin Unterstützung. Wenn Sie für unsere Turmsanierung spenden können und möchten\, freuen wir uns sehr. \nEbenfalls unterstützen können Sie das Sanierungsprojekt\, indem Sie Ihr eigenes Stück vom Turm erwerben:\n\nInga Osberghaus hat aus Ziegelsteinen\, die aus dem Turm abgetragen werden mussten\, kleine Kunstwerke hergestellt. Mit diesem Stück Ziegelstein halten Sie ein eigenes Stück Nippes in der Hand. Wir wünschen viel Freude damit! Der Erlös fließt in die Sanierung. \nErhältlich sind die Stücke auf unserem Weihnachtsmarkt. \n \n\nAls Weihnachtsmarkt der Evangelischen Kirchengemeinde Köln-Nippes achten wir bei der Auswahl unserer Stände besonders auf faire und ökologische Produkte\, soziale Projekte\, Regionalität und Vielfalt. Glühwein\, Kinderpunsch\, Waffeln und Tannenbäume – alles BIO; alles angebotenen Speisen sind vegetarisch.
URL:https://www.lutherkirche-nippes.de/termin/weihnachtsmarkt-26/
LOCATION:Lutherkirche Nippes\, Siebachstraße 85\, Köln\, NRW\, 50733\, Deutschland
CATEGORIES:Fest
ATTACH;FMTTYPE=image/jpeg:https://www.lutherkirche-nippes.de/wp-content/uploads/2022/11/Insta-Advent-2022.jpg
END:VEVENT
END:VCALENDAR