BEGIN:VCALENDAR
VERSION:2.0
PRODID:-//Evangelische Kirchengemeinde Köln-Nippes - ECPv6.15.12.2//NONSGML v1.0//EN
CALSCALE:GREGORIAN
METHOD:PUBLISH
X-WR-CALNAME:Evangelische Kirchengemeinde Köln-Nippes
X-ORIGINAL-URL:https://www.lutherkirche-nippes.de
X-WR-CALDESC:Veranstaltungen für Evangelische Kirchengemeinde Köln-Nippes
REFRESH-INTERVAL;VALUE=DURATION:PT1H
X-Robots-Tag:noindex
X-PUBLISHED-TTL:PT1H
BEGIN:VTIMEZONE
TZID:Europe/Berlin
BEGIN:DAYLIGHT
TZOFFSETFROM:+0100
TZOFFSETTO:+0200
TZNAME:CEST
DTSTART:20240331T010000
END:DAYLIGHT
BEGIN:STANDARD
TZOFFSETFROM:+0200
TZOFFSETTO:+0100
TZNAME:CET
DTSTART:20241027T010000
END:STANDARD
BEGIN:DAYLIGHT
TZOFFSETFROM:+0100
TZOFFSETTO:+0200
TZNAME:CEST
DTSTART:20250330T010000
END:DAYLIGHT
BEGIN:STANDARD
TZOFFSETFROM:+0200
TZOFFSETTO:+0100
TZNAME:CET
DTSTART:20251026T010000
END:STANDARD
BEGIN:DAYLIGHT
TZOFFSETFROM:+0100
TZOFFSETTO:+0200
TZNAME:CEST
DTSTART:20260329T010000
END:DAYLIGHT
BEGIN:STANDARD
TZOFFSETFROM:+0200
TZOFFSETTO:+0100
TZNAME:CET
DTSTART:20261025T010000
END:STANDARD
BEGIN:DAYLIGHT
TZOFFSETFROM:+0100
TZOFFSETTO:+0200
TZNAME:CEST
DTSTART:20270328T010000
END:DAYLIGHT
BEGIN:STANDARD
TZOFFSETFROM:+0200
TZOFFSETTO:+0100
TZNAME:CET
DTSTART:20271031T010000
END:STANDARD
END:VTIMEZONE
BEGIN:VEVENT
DTSTART;VALUE=DATE:20251231
DTEND;VALUE=DATE:20260126
DTSTAMP:20260421T153340
CREATED:20251211T102505Z
LAST-MODIFIED:20260103T105705Z
UID:12932-1767139200-1769385599@www.lutherkirche-nippes.de
SUMMARY:Angebote zu Silvester & im neuen Jahr
DESCRIPTION:Besondere Gottesdienste zum Jahreswechsel \nDie Tage zum neuen Jahr feiern wir mit besonderen Angeboten in der Lutherkirche\, \ndie alle unterschiedliche Schwerpunkte haben. Hier ein Überblick: \n\n🎆 Silvester | 31. Dez 2025 \nDer letzte Gottesdienst im Jahr blickt auf das vergangene und das kommende Jahr. \nWas fangen wir mit dem Geschehenen an? Der Gottesdienst stellt unsere Fragen in den Kontext biblischer Erzählungen und Texte. Musik und Gedanken für ein friedlicheres und solidarisches 2026 schließen das Jahr. \n\n18 Uhr  | Pfarrer Thomas Diederichs \n🌄  Erster Gottesdienst im neuen Jahr | 04. Jan 2026\nGottesdienst zum Start von 2026\n11 Uhr | Pfarrerin Miriam Haseleu\n \n🥂 Gottesdienst & Neujahrsempfang | 25. Jan 2026\nWir laden ein zu Gottesdienst und Empfang\, zu Gesprächen und dem Austausch darüber\,\nwas im neuen Jahr in unserer Gesellschaft und unserer Kirche wichtig ist und wichtig wird.\n11 Uhr | Pfarrerin Miriam Haseleu
URL:https://www.lutherkirche-nippes.de/termin/neujahr-2026/
LOCATION:Lutherkirche Nippes\, Siebachstraße 85\, Köln\, NRW\, 50733\, Deutschland
CATEGORIES:Begegnung,Dialog,Fest,Gottesdienst
ATTACH;FMTTYPE=image/png:https://www.lutherkirche-nippes.de/wp-content/uploads/2025/12/Bildschirmfoto-2025-12-04-um-23.44.21.png
END:VEVENT
BEGIN:VEVENT
DTSTART;TZID=Europe/Berlin:20260103T110000
DTEND;TZID=Europe/Berlin:20260103T123000
DTSTAMP:20260421T153340
CREATED:20251030T111805Z
LAST-MODIFIED:20260103T075709Z
UID:12587-1767438000-1767443400@www.lutherkirche-nippes.de
SUMMARY:Get the Flow Yoga – Für alle Level
DESCRIPTION:Anspannung – Entspannung. Einatmen – Ausatmen. \nBei sich selbst ankommen und Verbundenheit spüren.  \nGet the Flow Yoga\nFür alle Level\nmit Gisa Klönne\n\nSamstags | 11-12:30 Uhr\nGemeindehaus\nOhne Anmeldung.\nUnkostenbeitrag: 12 € (erm. 10 €) pro Stunde. \nDas Geld fließt in die Arbeit unserer Gemeinde.\n \n Verschiedene Yogastile wie das fließende Vinyasa\, klassisches Hatha und Yin-Yoga werden von Gisa zu einem stimmigen Ganzen kombiniert – angepasst an die individuellen Bedürfnisse der Teilnehmenden.\nSehr gern auch für Menschen in der zweiten Lebenshälfte.  \n Gisa Klönne lebt als Schriftstellerin\, Schreibcoach und Yogalehrerin in Köln-Nippes. Die Essenz ihrer jahrzehntelangen Yogapraxis bringt sie auf die Kurzformel „Yoga macht glücklich“. \nBitte mitbringen:\nBequeme Kleidung und dicke Socken\nMatten und sonstiges Material sind vorhanden.  \n \n\nMehr zu Gisa Klönne: www.gisa-kloenne.de \n\n \n 
URL:https://www.lutherkirche-nippes.de/termin/gettheflow_250103/
LOCATION:Gemeindehaus\, Siebachstr. 85\, Köln\, 50733
CATEGORIES:Bewegung,Entspannen
ATTACH;FMTTYPE=image/png:https://www.lutherkirche-nippes.de/wp-content/uploads/2025/09/Bildschirmfoto-2025-10-06-um-12.46.53.png
END:VEVENT
BEGIN:VEVENT
DTSTART;TZID=Europe/Berlin:20260104T110000
DTEND;TZID=Europe/Berlin:20260104T120000
DTSTAMP:20260421T153340
CREATED:20251204T224754Z
LAST-MODIFIED:20260103T105324Z
UID:12732-1767524400-1767528000@www.lutherkirche-nippes.de
SUMMARY:Erster Gottesdienst im neuen Jahr
DESCRIPTION:Gottesdienst zum Start von 2026\n \nMusik: Kristina Brodersen (Saxophon) und Tobias Weindorf (Piano) \nMit Pfarrerin Miriam Haseleu \n📅 Sonntag\, 04. Januar 2025\n⏰ 11 Uhr\n📍 Lutherkirche Nippes \n \n\n \n\nOnline spenden \nSpenden für unsere Kollektenzwecke funktioniert auch per Überweisung. \nUnsere Kontodaten finden Sie im Bereich Spenden. \nVielen Dank für Ihre Unterstützung! \n\n  \n\n  \n 
URL:https://www.lutherkirche-nippes.de/termin/gottesdienst-neujahr-2026/
LOCATION:Lutherkirche Nippes\, Siebachstraße 85\, Köln\, NRW\, 50733\, Deutschland
CATEGORIES:Gottesdienst
ATTACH;FMTTYPE=image/png:https://www.lutherkirche-nippes.de/wp-content/uploads/2025/12/Bildschirmfoto-2025-12-04-um-23.50.55.png
END:VEVENT
BEGIN:VEVENT
DTSTART;TZID=Europe/Berlin:20260110T110000
DTEND;TZID=Europe/Berlin:20260110T123000
DTSTAMP:20260421T153340
CREATED:20260103T075718Z
LAST-MODIFIED:20260103T075759Z
UID:13101-1768042800-1768048200@www.lutherkirche-nippes.de
SUMMARY:Get the Flow Yoga – Für alle Level
DESCRIPTION:Anspannung – Entspannung. Einatmen – Ausatmen. \nBei sich selbst ankommen und Verbundenheit spüren.  \nGet the Flow Yoga\nFür alle Level\nmit Gisa Klönne\n\nSamstags | 11-12:30 Uhr\nGemeindehaus\nOhne Anmeldung.\nUnkostenbeitrag: 12 € (erm. 10 €) pro Stunde. \nDas Geld fließt in die Arbeit unserer Gemeinde.\n \n Verschiedene Yogastile wie das fließende Vinyasa\, klassisches Hatha und Yin-Yoga werden von Gisa zu einem stimmigen Ganzen kombiniert – angepasst an die individuellen Bedürfnisse der Teilnehmenden.\nSehr gern auch für Menschen in der zweiten Lebenshälfte.  \n Gisa Klönne lebt als Schriftstellerin\, Schreibcoach und Yogalehrerin in Köln-Nippes. Die Essenz ihrer jahrzehntelangen Yogapraxis bringt sie auf die Kurzformel „Yoga macht glücklich“. \nBitte mitbringen:\nBequeme Kleidung und dicke Socken\nMatten und sonstiges Material sind vorhanden.  \n \n\nMehr zu Gisa Klönne: www.gisa-kloenne.de \n\n \n 
URL:https://www.lutherkirche-nippes.de/termin/gettheflow_250110/
LOCATION:Gemeindehaus\, Siebachstr. 85\, Köln\, 50733
CATEGORIES:Bewegung,Entspannen
ATTACH;FMTTYPE=image/png:https://www.lutherkirche-nippes.de/wp-content/uploads/2025/09/Bildschirmfoto-2025-10-06-um-12.46.53.png
END:VEVENT
BEGIN:VEVENT
DTSTART;TZID=Europe/Berlin:20260111T110000
DTEND;TZID=Europe/Berlin:20260111T110000
DTSTAMP:20260421T153340
CREATED:20251205T042249Z
LAST-MODIFIED:20251205T042904Z
UID:12740-1768129200-1768129200@www.lutherkirche-nippes.de
SUMMARY:Gottesdienst
DESCRIPTION:Sonntagsgottesdienst\n \nMit Pfarrerin Dorothea Ugi \n📅 Sonntag\, 11. Januar 2026\n⏰ 11 Uhr\n📍 Lutherkirche Nippes \n \n\n \n\nOnline spenden \nSpenden für unsere Kollektenzwecke funktioniert auch per Überweisung. \nUnsere Kontodaten finden Sie im Bereich Spenden. \nVielen Dank für Ihre Unterstützung! \n \n\n[/bs_col] \n\n  \n 
URL:https://www.lutherkirche-nippes.de/termin/gottesdienst-260111/
LOCATION:Lutherkirche Nippes\, Siebachstraße 85\, Köln\, NRW\, 50733\, Deutschland
CATEGORIES:Gottesdienst,Vielfalt
ATTACH;FMTTYPE=image/png:https://www.lutherkirche-nippes.de/wp-content/uploads/2025/12/Bildschirmfoto-2025-12-04-um-23.50.55.png
END:VEVENT
BEGIN:VEVENT
DTSTART;TZID=Europe/Berlin:20260114T094500
DTEND;TZID=Europe/Berlin:20260114T113000
DTSTAMP:20260421T153340
CREATED:20251205T053804Z
LAST-MODIFIED:20251211T101834Z
UID:12821-1768383900-1768390200@www.lutherkirche-nippes.de
SUMMARY:DiakoniePunkt: Gemeinsames Frühstück für Senior*innen
DESCRIPTION:Jeden 2. Mittwoch im Monat im DiakoniePunkt Nippes: \n🥐 Senior*innenfrühstück \nEine Anmeldung ist nicht notwendig.\nEinfach vorbeikommen – wir freuen uns! \nBeitrag: 5€ \n📅 Mittwoch\, 14. Januar 2026\n⏰ 9:45 Uhr\n📍DiakoniePunkt Nippes \n(Yorckstr. 10\, 50733 Köln) \nNächste Termine\n11. Feb | 11. Mär\n \nAlle Senior*innen sind herzlich eingeladen!
URL:https://www.lutherkirche-nippes.de/termin/seniorenfruehstueck-2601/
LOCATION:DiakoniePunkt Nippes\, Yorckstraße 10\, Köln\, 50733\, Deutschland
CATEGORIES:Café,Senior*innen
ATTACH;FMTTYPE=image/png:https://www.lutherkirche-nippes.de/wp-content/uploads/2025/11/Bildschirmfoto-2025-11-20-um-13.33.20.png
END:VEVENT
BEGIN:VEVENT
DTSTART;TZID=Europe/Berlin:20260116T160000
DTEND;TZID=Europe/Berlin:20260116T180000
DTSTAMP:20260421T153340
CREATED:20260112T105154Z
LAST-MODIFIED:20260115T121338Z
UID:13122-1768579200-1768586400@www.lutherkirche-nippes.de
SUMMARY:Playday – Inklusiver Spielenachmittag für Jugendliche
DESCRIPTION:Jeden Freitag* laden wir ein: \nSpielenachmittag für Jugendliche\nGemeindehaus (barrierefrei) | 16-18 Uhr \nKommende Treffen:\n23.01. | 30.01.\nAb Februar jeden 2. Freitag\n \n Bring gerne dein Lieblingsspiel mit Brettspiel\, Kartenspiel\, Würfelspiel…!\n Inklusiv! Jede*r ist willkommen – einfach vorbeikommen und mitspielen.  \n* Der Spieletreff pausiert in Schulferien & an Feiertagen\n \n\nBei Fragen\, meldet euch gerne:\nPetra Knopp\n01 72 | 21 50 657 \n\n \n 
URL:https://www.lutherkirche-nippes.de/termin/zeitfuerkinder-playday-260117/
LOCATION:Gemeindehaus\, Siebachstr. 85\, Köln\, 50733
CATEGORIES:Jugend,Spaß,Spiele
ATTACH;FMTTYPE=image/png:https://www.lutherkirche-nippes.de/wp-content/uploads/2025/08/Bildschirmfoto-2025-09-01-um-12.43.46.png
END:VEVENT
BEGIN:VEVENT
DTSTART;TZID=Europe/Berlin:20260117T110000
DTEND;TZID=Europe/Berlin:20260117T123000
DTSTAMP:20260421T153340
CREATED:20260112T103736Z
LAST-MODIFIED:20260112T103825Z
UID:13112-1768647600-1768653000@www.lutherkirche-nippes.de
SUMMARY:Get the Flow Yoga – Für alle Level
DESCRIPTION:Anspannung – Entspannung. Einatmen – Ausatmen. \nBei sich selbst ankommen und Verbundenheit spüren.  \nGet the Flow Yoga\nFür alle Level\nmit Gisa Klönne\n\nSamstags | 11-12:30 Uhr\nGemeindehaus\nOhne Anmeldung.\nUnkostenbeitrag: 12 € (erm. 10 €) pro Stunde. \nDas Geld fließt in die Arbeit unserer Gemeinde.\n \n Verschiedene Yogastile wie das fließende Vinyasa\, klassisches Hatha und Yin-Yoga werden von Gisa zu einem stimmigen Ganzen kombiniert – angepasst an die individuellen Bedürfnisse der Teilnehmenden.\nSehr gern auch für Menschen in der zweiten Lebenshälfte.  \n Gisa Klönne lebt als Schriftstellerin\, Schreibcoach und Yogalehrerin in Köln-Nippes. Die Essenz ihrer jahrzehntelangen Yogapraxis bringt sie auf die Kurzformel „Yoga macht glücklich“. \nBitte mitbringen:\nBequeme Kleidung und dicke Socken\nMatten und sonstiges Material sind vorhanden.  \n \n\nMehr zu Gisa Klönne: www.gisa-kloenne.de \n\n \n 
URL:https://www.lutherkirche-nippes.de/termin/gettheflow_250117/
LOCATION:Gemeindehaus\, Siebachstr. 85\, Köln\, 50733
CATEGORIES:Bewegung,Entspannen
ATTACH;FMTTYPE=image/png:https://www.lutherkirche-nippes.de/wp-content/uploads/2025/09/Bildschirmfoto-2025-10-06-um-12.46.53.png
END:VEVENT
BEGIN:VEVENT
DTSTART;TZID=Europe/Berlin:20260118T110000
DTEND;TZID=Europe/Berlin:20260118T120000
DTSTAMP:20260421T153340
CREATED:20251205T042725Z
LAST-MODIFIED:20251205T043116Z
UID:12746-1768734000-1768737600@www.lutherkirche-nippes.de
SUMMARY:Gottesdienst
DESCRIPTION:Sonntagsgottesdienst\n \nMit Pfarrperson Elias Mögling \n📅 Sonntag\, 18. Januar 2026\n⏰ 11 Uhr\n📍 Lutherkirche Nippes \n \n\n \n\nOnline spenden \nSpenden für unsere Kollektenzwecke funktioniert auch per Überweisung. \nUnsere Kontodaten finden Sie im Bereich Spenden. \nVielen Dank für Ihre Unterstützung! \n \n\n[/bs_col] \n\n  \n 
URL:https://www.lutherkirche-nippes.de/termin/gottesdienst-260118/
LOCATION:Lutherkirche Nippes\, Siebachstraße 85\, Köln\, NRW\, 50733\, Deutschland
CATEGORIES:Gottesdienst,Vielfalt
ATTACH;FMTTYPE=image/png:https://www.lutherkirche-nippes.de/wp-content/uploads/2025/12/Bildschirmfoto-2025-12-04-um-23.50.55.png
END:VEVENT
BEGIN:VEVENT
DTSTART;TZID=Europe/Berlin:20260123T160000
DTEND;TZID=Europe/Berlin:20260123T173000
DTSTAMP:20260421T153340
CREATED:20251205T062658Z
LAST-MODIFIED:20260127T075824Z
UID:12865-1769184000-1769189400@www.lutherkirche-nippes.de
SUMMARY:Offenes Trauercafé
DESCRIPTION:Trauern braucht Zeit und Trost. Zeit für Erinnerung\, Zeit für Stille\, Zeit für neue Schritte. \nManchmal tut es gut\, Zeit in Gemeinschaft mit Menschen zu verbringen\, die ähnliches erleben. Die Trauergruppe bietet einen geschützten Raum für Austausch und kleine Impulse. Einen Raum für Sie und Ihre Trauer mit allen Facetten. Wir laden alle ein\, die um einen Menschen trauern. \nEine Anmeldung ist nicht nötig. \n📅  Montag\, 23. Januar 2026\n⏰ 16-17:30 Uhr\n📍Café Fink (nur für unsere Gruppe geöffnet)\n(Siebachstr. 50\, 50733 Köln) \n\nNächste Termine dieses Jahr: \n27. März | 29. Mai | 31. Juli \n\n\nKontakt \n\n\n\nMiriam Haseleu\n0221 – 29 86 87 95\nmiriam.haseleu@ekir.de\nDorit Felsch\n0221 – 33 82 199\ndorit.felsch@ekir.de\n\n\n\n \n \n\n 
URL:https://www.lutherkirche-nippes.de/termin/trauercafe-2601/
LOCATION:Café Fink\, Siebachstraße 50\, Köln\, 50733\, Deutschland
CATEGORIES:Dialog
ATTACH;FMTTYPE=image/jpeg:https://www.lutherkirche-nippes.de/wp-content/uploads/2024/11/Medien-Trauercafé-.jpg
END:VEVENT
BEGIN:VEVENT
DTSTART;TZID=Europe/Berlin:20260123T160000
DTEND;TZID=Europe/Berlin:20260123T180000
DTSTAMP:20260421T153340
CREATED:20260112T105811Z
LAST-MODIFIED:20260115T121403Z
UID:13125-1769184000-1769191200@www.lutherkirche-nippes.de
SUMMARY:Playday – Inklusiver Spielenachmittag für Jugendliche
DESCRIPTION:Jeden Freitag* laden wir ein: \nSpielenachmittag für Jugendliche\nGemeindehaus (barrierefrei) | 16-18 Uhr \nKommende Treffen:\n 30.01. | ab Februar jeden 2. Freitag\n \n Bring gerne dein Lieblingsspiel mit Brettspiel\, Kartenspiel\, Würfelspiel…!\n Inklusiv! Jede*r ist willkommen – einfach vorbeikommen und mitspielen.  \n* Der Spieletreff pausiert in Schulferien & an Feiertagen\n \n\nBei Fragen\, meldet euch gerne:\nPetra Knopp\n01 72 | 21 50 657 \n\n \n 
URL:https://www.lutherkirche-nippes.de/termin/zeitfuerkinder-playday-260123/
LOCATION:Gemeindehaus\, Siebachstr. 85\, Köln\, 50733
CATEGORIES:Jugend,Spaß,Spiele
ATTACH;FMTTYPE=image/png:https://www.lutherkirche-nippes.de/wp-content/uploads/2025/08/Bildschirmfoto-2025-09-01-um-12.43.46.png
END:VEVENT
BEGIN:VEVENT
DTSTART;TZID=Europe/Berlin:20260123T170000
DTEND;TZID=Europe/Berlin:20260123T180000
DTSTAMP:20260421T153340
CREATED:20251205T063823Z
LAST-MODIFIED:20251205T064349Z
UID:12877-1769187600-1769191200@www.lutherkirche-nippes.de
SUMMARY:Walk 'n' Talk: Spaziertreff im Veedel
DESCRIPTION:👣 Gemeinsam durch Nippes spazieren \nWir möchten Gemeinschaft stiften und fördern\, Austausch und lebendige Gespräche. \nWer Lust hat\, ist herzlich eingeladen – wir starten unseren neuer Spaziertreff Walk & Talk! \nMit Gisela Keuerleber.\nEs ist keine Anmeldung notwendig. \nDas Geheimnis des Vorwärtskommens besteht darin\, den ersten Schritt zu tun. (Mark Twain)  \n📅 Freitag\, 23. Januar 2026\n⏰ 17 Uhr\n📍Treffpunkt Lutherkirche \n  \n\nKontakt \n\n\n\n\n\nGisela Keuerleber\n0221 | 73 91 436\n0173 | 27 19 072\n\n\n\n\n\n  \n  \n 
URL:https://www.lutherkirche-nippes.de/termin/walkntalk-2601/
LOCATION:Lutherkirche Nippes\, Siebachstraße 85\, Köln\, NRW\, 50733\, Deutschland
CATEGORIES:Dialog,Momente
ATTACH;FMTTYPE=image/jpeg:https://www.lutherkirche-nippes.de/wp-content/uploads/2025/09/Insta-WalknTalk-20252.jpg
END:VEVENT
BEGIN:VEVENT
DTSTART;TZID=Europe/Berlin:20260123T180000
DTEND;TZID=Europe/Berlin:20260123T200000
DTSTAMP:20260421T153340
CREATED:20251205T060652Z
LAST-MODIFIED:20251211T102030Z
UID:12853-1769191200-1769198400@www.lutherkirche-nippes.de
SUMMARY:Zeit für Kinder: Nachtwanderung
DESCRIPTION:🔦 Nachtwanderung\n \nMit Lagerfeuer im Kirchgarten. \nFür Familien mit Kindern bis 10 Jahre\nMit dem Team von Zeit für Kinder \n📅 Freitag\, 23. Januar 2026\n⏰ 18 Uhr\n📍 Nippes und Kirchgarten \nSeid dabei & meldet euch hier an! \n \n\n\n\n\n\n \n\n\n \nUnterstützt unser Projekt \nmit dem Betreff „Zeit für Kinder“\n\n\n \n\n\n\n\n\n \n[/bs_col][/bs_row]
URL:https://www.lutherkirche-nippes.de/termin/zeitfuerkinder-2601/
LOCATION:Nippes
CATEGORIES:Spaß,Zeit für Kinder
ATTACH;FMTTYPE=image/jpeg:https://www.lutherkirche-nippes.de/wp-content/uploads/2025/12/Medien-Zeit-fuer-Kinder-Nachtwanderung-26015.jpg
END:VEVENT
BEGIN:VEVENT
DTSTART;TZID=Europe/Berlin:20260124T110000
DTEND;TZID=Europe/Berlin:20260124T123000
DTSTAMP:20260421T153340
CREATED:20260112T103916Z
LAST-MODIFIED:20260112T104024Z
UID:13114-1769252400-1769257800@www.lutherkirche-nippes.de
SUMMARY:Get the Flow Yoga – Für alle Level
DESCRIPTION:Anspannung – Entspannung. Einatmen – Ausatmen. \nBei sich selbst ankommen und Verbundenheit spüren.  \nGet the Flow Yoga\nFür alle Level\nmit Gisa Klönne\n\nSamstags | 11-12:30 Uhr\nGemeindehaus\nOhne Anmeldung.\nUnkostenbeitrag: 12 € (erm. 10 €) pro Stunde. \nDas Geld fließt in die Arbeit unserer Gemeinde.\n \n Verschiedene Yogastile wie das fließende Vinyasa\, klassisches Hatha und Yin-Yoga werden von Gisa zu einem stimmigen Ganzen kombiniert – angepasst an die individuellen Bedürfnisse der Teilnehmenden.\nSehr gern auch für Menschen in der zweiten Lebenshälfte.  \n Gisa Klönne lebt als Schriftstellerin\, Schreibcoach und Yogalehrerin in Köln-Nippes. Die Essenz ihrer jahrzehntelangen Yogapraxis bringt sie auf die Kurzformel „Yoga macht glücklich“. \nBitte mitbringen:\nBequeme Kleidung und dicke Socken\nMatten und sonstiges Material sind vorhanden.  \n \n\nMehr zu Gisa Klönne: www.gisa-kloenne.de \n\n \n 
URL:https://www.lutherkirche-nippes.de/termin/gettheflow_250124/
LOCATION:Gemeindehaus\, Siebachstr. 85\, Köln\, 50733
CATEGORIES:Bewegung,Entspannen
ATTACH;FMTTYPE=image/png:https://www.lutherkirche-nippes.de/wp-content/uploads/2025/09/Bildschirmfoto-2025-10-06-um-12.46.53.png
END:VEVENT
BEGIN:VEVENT
DTSTART;TZID=Europe/Berlin:20260125T110000
DTEND;TZID=Europe/Berlin:20260125T130000
DTSTAMP:20260421T153340
CREATED:20251205T041718Z
LAST-MODIFIED:20260119T114046Z
UID:12736-1769338800-1769346000@www.lutherkirche-nippes.de
SUMMARY:Gottesdienst & Neujahrsempfang 2026
DESCRIPTION:Einladung zum Neujahrsempfang 2026\nder Lutherkirche Nippes & der Kulturkirche Köln\n \nGottesdienst und Empfang mit Gesprächen und dem Austausch darüber\,\nwas im neuen Jahr in unserer Gesellschaft und unserer Kirche wichtig ist und wichtig wird.\nWir verabschieden Pfarrerin Dr. Dorothea Ugi und den langjährigen Leiter unseres Jugendzentrums OT Werkstattstraße Stephan Osinski. \nWir freuen uns\, Sie persönlich begrüßen zu können!  \nGottesdienst mit Pfarrerin Miriam Haseleu\nMusik: Tina Teubner (Geige)\, Mathilda Süverkrüp (Geige)\, Carlotta Süverkrüp (Cello)\, Irene Schwalb (Bratsche)\, Ben Süverkrüp (Piano) \n\n \nIhr Team der Lutherkirche-Nippes & der Kulturkirche Köln \n 
URL:https://www.lutherkirche-nippes.de/termin/neujahrsempfang2026/
LOCATION:Lutherkirche Nippes\, Siebachstraße 85\, Köln\, NRW\, 50733\, Deutschland
CATEGORIES:Dialog,Empfang,Gottesdienst
END:VEVENT
BEGIN:VEVENT
DTSTART;TZID=Europe/Berlin:20260126T193000
DTEND;TZID=Europe/Berlin:20260126T203000
DTSTAMP:20260421T153340
CREATED:20251205T064510Z
LAST-MODIFIED:20251205T064722Z
UID:12886-1769455800-1769459400@www.lutherkirche-nippes.de
SUMMARY:Zeit für Stille
DESCRIPTION:🪔 Klang ~ Atem ~ Meditation \n Zum Ruhigwerden\, Atem schöpfen\, Stille und Gemeinschaft erfahren. \nGerahmt von einer kleinen Körperübung und kurzen Texten steht das gemeinsame Schweigen im Mittelpunkt. \nAlle sind herzlich eingeladen. Eine Anmeldung ist nicht nötig. \n \n📅  Montag\, 26. Januar 2026\n⏰  19:30 Uhr\n📍 Lutherkirche Nippes \n  \n\nKontakt \nMiriam Haseleu\n miriam.haseleu@ekir.de
URL:https://www.lutherkirche-nippes.de/termin/zeitfuerstille-2601/
LOCATION:Gemeindehaus\, Deutschland
CATEGORIES:Entspannen,Freizeit
ATTACH;FMTTYPE=image/jpeg:https://www.lutherkirche-nippes.de/wp-content/uploads/2024/11/Insta-Zeit-fuer-Stille-20253.jpg
END:VEVENT
BEGIN:VEVENT
DTSTART;TZID=Europe/Berlin:20260129T190000
DTEND;TZID=Europe/Berlin:20260129T220000
DTSTAMP:20260421T153340
CREATED:20260112T103333Z
LAST-MODIFIED:20260112T105506Z
UID:13110-1769713200-1769724000@www.lutherkirche-nippes.de
SUMMARY:hier+weiter: Eat & Greet
DESCRIPTION:Ein Angebot des Netzwerks „hier+weiter – Evangelisch leben in Köln“: \nEat ’n‘ Greet\nFeierabendtreff im Veedel\n\n 29. Januar | 19 Uhr\nDiakoniePunkt Nippes\nYorckstraße. 10\, 50733 Köln \nZusammen kochen\, neue Leute treffen und gemeinsam den Abend genießen. \nFür alle zwischen 25 bis 40 Jahren. . \n Du bist dabei?\nGib uns kurz Bescheid und melde dich an!\nWir kümmern uns um die Besorgungen. \n\nKontakt: \nMarina von Ameln\nmarina.vonameln@diakonie-koeln.de\n \n\n\n\n\n\nEin Projekt von:\n\nwww.hierundweiter.de \n\n\n \n\n \n\n\n\n\n \n 
URL:https://www.lutherkirche-nippes.de/termin/eatngreet-2601/
LOCATION:DiakoniePunkt Nippes\, Yorckstraße 10\, Köln\, 50733\, Deutschland
CATEGORIES:Entspannen,Kooperation,Momente
ATTACH;FMTTYPE=image/jpeg:https://www.lutherkirche-nippes.de/wp-content/uploads/2025/04/Logo-hierweiter-EatGreet-2504.jpg
END:VEVENT
BEGIN:VEVENT
DTSTART;TZID=Europe/Berlin:20260130T160000
DTEND;TZID=Europe/Berlin:20260130T180000
DTSTAMP:20260421T153340
CREATED:20260112T105853Z
LAST-MODIFIED:20260115T121444Z
UID:13127-1769788800-1769796000@www.lutherkirche-nippes.de
SUMMARY:Playday – Inklusiver Spielenachmittag für Jugendliche
DESCRIPTION:Jeden Freitag* laden wir ein: \nSpielenachmittag für Jugendliche\nGemeindehaus (barrierefrei) | 16-18 Uhr \nKommende Treffen:\nAb Februar jeden 2. Freitag\n \n Bring gerne dein Lieblingsspiel mit Brettspiel\, Kartenspiel\, Würfelspiel…!\n Inklusiv! Jede*r ist willkommen – einfach vorbeikommen und mitspielen.  \n* Der Spieletreff pausiert in Schulferien & an Feiertagen\n \n\nBei Fragen\, meldet euch gerne:\nPetra Knopp\n01 72 | 21 50 657 \n\n \n 
URL:https://www.lutherkirche-nippes.de/termin/zeitfuerkinder-playday-260131/
LOCATION:Gemeindehaus\, Siebachstr. 85\, Köln\, 50733
CATEGORIES:Jugend,Spaß,Spiele
ATTACH;FMTTYPE=image/png:https://www.lutherkirche-nippes.de/wp-content/uploads/2025/08/Bildschirmfoto-2025-09-01-um-12.43.46.png
END:VEVENT
BEGIN:VEVENT
DTSTART;TZID=Europe/Berlin:20260131T110000
DTEND;TZID=Europe/Berlin:20260131T123000
DTSTAMP:20260421T153340
CREATED:20260112T104137Z
LAST-MODIFIED:20260112T104213Z
UID:13116-1769857200-1769862600@www.lutherkirche-nippes.de
SUMMARY:Get the Flow Yoga – Für alle Level
DESCRIPTION:Anspannung – Entspannung. Einatmen – Ausatmen. \nBei sich selbst ankommen und Verbundenheit spüren.  \nGet the Flow Yoga\nFür alle Level\nmit Gisa Klönne\n\nSamstags | 11-12:30 Uhr\nGemeindehaus\nOhne Anmeldung.\nUnkostenbeitrag: 12 € (erm. 10 €) pro Stunde. \nDas Geld fließt in die Arbeit unserer Gemeinde.\n \n Verschiedene Yogastile wie das fließende Vinyasa\, klassisches Hatha und Yin-Yoga werden von Gisa zu einem stimmigen Ganzen kombiniert – angepasst an die individuellen Bedürfnisse der Teilnehmenden.\nSehr gern auch für Menschen in der zweiten Lebenshälfte.  \n Gisa Klönne lebt als Schriftstellerin\, Schreibcoach und Yogalehrerin in Köln-Nippes. Die Essenz ihrer jahrzehntelangen Yogapraxis bringt sie auf die Kurzformel „Yoga macht glücklich“. \nBitte mitbringen:\nBequeme Kleidung und dicke Socken\nMatten und sonstiges Material sind vorhanden.  \n \n\nMehr zu Gisa Klönne: www.gisa-kloenne.de \n\n \n 
URL:https://www.lutherkirche-nippes.de/termin/gettheflow_250131/
LOCATION:Gemeindehaus\, Siebachstr. 85\, Köln\, 50733
CATEGORIES:Bewegung,Entspannen
ATTACH;FMTTYPE=image/png:https://www.lutherkirche-nippes.de/wp-content/uploads/2025/09/Bildschirmfoto-2025-10-06-um-12.46.53.png
END:VEVENT
END:VCALENDAR