BEGIN:VCALENDAR
VERSION:2.0
PRODID:-//Evangelische Kirchengemeinde Köln-Nippes - ECPv6.15.12.2//NONSGML v1.0//EN
CALSCALE:GREGORIAN
METHOD:PUBLISH
X-ORIGINAL-URL:https://www.lutherkirche-nippes.de
X-WR-CALDESC:Veranstaltungen für Evangelische Kirchengemeinde Köln-Nippes
REFRESH-INTERVAL;VALUE=DURATION:PT1H
X-Robots-Tag:noindex
X-PUBLISHED-TTL:PT1H
BEGIN:VTIMEZONE
TZID:Europe/Berlin
BEGIN:DAYLIGHT
TZOFFSETFROM:+0100
TZOFFSETTO:+0200
TZNAME:CEST
DTSTART:20250330T010000
END:DAYLIGHT
BEGIN:STANDARD
TZOFFSETFROM:+0200
TZOFFSETTO:+0100
TZNAME:CET
DTSTART:20251026T010000
END:STANDARD
BEGIN:DAYLIGHT
TZOFFSETFROM:+0100
TZOFFSETTO:+0200
TZNAME:CEST
DTSTART:20260329T010000
END:DAYLIGHT
BEGIN:STANDARD
TZOFFSETFROM:+0200
TZOFFSETTO:+0100
TZNAME:CET
DTSTART:20261025T010000
END:STANDARD
BEGIN:DAYLIGHT
TZOFFSETFROM:+0100
TZOFFSETTO:+0200
TZNAME:CEST
DTSTART:20270328T010000
END:DAYLIGHT
BEGIN:STANDARD
TZOFFSETFROM:+0200
TZOFFSETTO:+0100
TZNAME:CET
DTSTART:20271031T010000
END:STANDARD
END:VTIMEZONE
BEGIN:VEVENT
DTSTART;TZID=Europe/Berlin:20260201T110000
DTEND;TZID=Europe/Berlin:20260201T120000
DTSTAMP:20260421T140638
CREATED:20251205T042942Z
LAST-MODIFIED:20260131T205300Z
UID:12751-1769943600-1769947200@www.lutherkirche-nippes.de
SUMMARY:Gottesdienst
DESCRIPTION:Sonntagsgottesdienst\n \nVielleicht ist diese Welt noch nicht verloren. „NIE WIEDER IST JETZT!“ \nMit Pfarrer Thomas Diederichs \n📅 Sonntag\, 01. Februar 2026\n⏰ 11 Uhr\n📍 Lutherkirche Nippes \n \n\n \n\nOnline spenden \nSpenden für unsere Kollektenzwecke funktioniert auch per Überweisung. \nUnsere Kontodaten finden Sie im Bereich Spenden. \nVielen Dank für Ihre Unterstützung! \n \n\n[/bs_col] \n\n  \n 
URL:https://www.lutherkirche-nippes.de/termin/gottesdienst-260201/
LOCATION:Lutherkirche Nippes\, Siebachstraße 85\, Köln\, NRW\, 50733\, Deutschland
CATEGORIES:Gottesdienst,Vielfalt
ATTACH;FMTTYPE=image/jpeg:https://www.lutherkirche-nippes.de/wp-content/uploads/2025/12/AdobeStock_97059271-Kopie-scaled.jpg
END:VEVENT
BEGIN:VEVENT
DTSTART;TZID=Europe/Berlin:20260206T160000
DTEND;TZID=Europe/Berlin:20260206T180000
DTSTAMP:20260421T140638
CREATED:20260116T090643Z
LAST-MODIFIED:20260116T090827Z
UID:13164-1770393600-1770400800@www.lutherkirche-nippes.de
SUMMARY:Playday – Inklusiver Spielenachmittag für Jugendliche
DESCRIPTION:Freitags* laden wir ein: \nSpielenachmittag für Jugendliche\nGemeindehaus (barrierefrei) | 16-18 Uhr \nNächste Treffen:\n6.2. | 20.2. | 20.3. | 27.3. | 24.4. | 22.5. | 12.6. | 26.6. | 10.7.\n\n \n Bring gerne dein Lieblingsspiel mit Brettspiel\, Kartenspiel\, Würfelspiel…!\n Inklusiv! Jede*r ist willkommen – einfach vorbeikommen und mitspielen.  \n* Der Spieletreff pausiert in Schulferien & an Feiertagen\n \n\nBei Fragen\, meldet euch gerne:\nPetra Knopp\n01 72 | 21 50 657 \n\n \n 
URL:https://www.lutherkirche-nippes.de/termin/zeitfuerkinder-playday-260206/
LOCATION:Gemeindehaus\, Siebachstr. 85\, Köln\, 50733
CATEGORIES:Jugend,Spaß,Spiele
ATTACH;FMTTYPE=image/png:https://www.lutherkirche-nippes.de/wp-content/uploads/2025/08/Bildschirmfoto-2025-09-01-um-12.43.46.png
END:VEVENT
BEGIN:VEVENT
DTSTART;TZID=Europe/Berlin:20260207T110000
DTEND;TZID=Europe/Berlin:20260207T123000
DTSTAMP:20260421T140638
CREATED:20260205T120216Z
LAST-MODIFIED:20260205T120316Z
UID:13322-1770462000-1770467400@www.lutherkirche-nippes.de
SUMMARY:Get the Flow Yoga – Für alle Level
DESCRIPTION:Anspannung – Entspannung. Einatmen – Ausatmen. \nBei sich selbst ankommen und Verbundenheit spüren.  \nGet the Flow Yoga\nFür alle Level\nmit Gisa Klönne\n\nSamstags | 11-12:30 Uhr\nGemeindehaus\nOhne Anmeldung.\nUnkostenbeitrag: 15 € (erm. 12 €) pro Stunde. \nDas Geld fließt in die Arbeit unserer Gemeinde.\n \n Verschiedene Yogastile wie das fließende Vinyasa\, klassisches Hatha und Yin-Yoga werden von Gisa zu einem stimmigen Ganzen kombiniert – angepasst an die individuellen Bedürfnisse der Teilnehmenden.\nSehr gern auch für Menschen in der zweiten Lebenshälfte.  \n Gisa Klönne lebt als Schriftstellerin\, Schreibcoach und Yogalehrerin in Köln-Nippes. Die Essenz ihrer jahrzehntelangen Yogapraxis bringt sie auf die Kurzformel „Yoga macht glücklich“. \nBitte mitbringen:\nBequeme Kleidung und dicke Socken\nMatten und sonstiges Material sind vorhanden.  \n \n\nMehr zu Gisa Klönne: www.gisa-kloenne.de \n\n \n 
URL:https://www.lutherkirche-nippes.de/termin/gettheflow_250207/
LOCATION:Gemeindehaus\, Siebachstr. 85\, Köln\, 50733
CATEGORIES:Bewegung,Entspannen
ATTACH;FMTTYPE=image/png:https://www.lutherkirche-nippes.de/wp-content/uploads/2025/09/Bildschirmfoto-2025-10-06-um-12.46.53.png
END:VEVENT
BEGIN:VEVENT
DTSTART;TZID=Europe/Berlin:20260208T110000
DTEND;TZID=Europe/Berlin:20260208T120000
DTSTAMP:20260421T140638
CREATED:20251205T043154Z
LAST-MODIFIED:20260205T110153Z
UID:12754-1770548400-1770552000@www.lutherkirche-nippes.de
SUMMARY:Gottesdienst
DESCRIPTION:Sonntagsgottesdienst\nMit Abendmahl & Saft. \nMit Pfarrerin Miriam Haseleu \n📅 Sonntag\, 08. Februar 2026\n⏰ 11 Uhr\n📍 Lutherkirche Nippes \n \n\n \n\nOnline spenden \nSpenden für unsere Kollektenzwecke funktioniert auch per Überweisung. \nUnsere Kontodaten finden Sie im Bereich Spenden. \nVielen Dank für Ihre Unterstützung! \n \n\n[/bs_col] \n\n  \n 
URL:https://www.lutherkirche-nippes.de/termin/gottesdienst-260208/
LOCATION:Lutherkirche Nippes\, Siebachstraße 85\, Köln\, NRW\, 50733\, Deutschland
CATEGORIES:Gottesdienst,Vielfalt
ATTACH;FMTTYPE=image/png:https://www.lutherkirche-nippes.de/wp-content/uploads/2025/12/Bildschirmfoto-2025-12-04-um-23.50.55.png
END:VEVENT
BEGIN:VEVENT
DTSTART;TZID=Europe/Berlin:20260211T094500
DTEND;TZID=Europe/Berlin:20260211T113000
DTSTAMP:20260421T140638
CREATED:20251205T054132Z
LAST-MODIFIED:20251211T102209Z
UID:12828-1770803100-1770809400@www.lutherkirche-nippes.de
SUMMARY:DiakoniePunkt: Gemeinsames Frühstück für Senior*innen
DESCRIPTION:Jeden 2. Mittwoch im Monat im DiakoniePunkt Nippes: \n🥐 Senior*innenfrühstück \nEine Anmeldung ist nicht notwendig.\nEinfach vorbeikommen – wir freuen uns! \nBeitrag: 5€ \n📅 Mittwoch\, 11. Februar 2026\n⏰ 9:45 Uhr\n📍DiakoniePunkt Nippes \n(Yorckstr. 10\, 50733 Köln) \nNächste Termine\n11. März | 08. April | 13. Mai\n \nAlle Senior*innen sind herzlich eingeladen!
URL:https://www.lutherkirche-nippes.de/termin/seniorenfruehstueck-2602/
LOCATION:DiakoniePunkt Nippes\, Yorckstraße 10\, Köln\, 50733\, Deutschland
CATEGORIES:Café,Senior*innen
ATTACH;FMTTYPE=image/png:https://www.lutherkirche-nippes.de/wp-content/uploads/2025/11/Bildschirmfoto-2025-11-20-um-13.33.20.png
END:VEVENT
BEGIN:VEVENT
DTSTART;TZID=Europe/Berlin:20260215T110000
DTEND;TZID=Europe/Berlin:20260215T120000
DTSTAMP:20260421T140638
CREATED:20251205T043157Z
LAST-MODIFIED:20260131T211344Z
UID:12755-1771153200-1771156800@www.lutherkirche-nippes.de
SUMMARY:Gottesdienst
DESCRIPTION:Sonntagsgottesdienst\n \nGottesdienst am Karnevalssonntag. Danach geht es noch zum Zug! \nMit Pfarrer Thomas Diederichs \n📅 Sonntag\, 01. Februar 2026\n⏰ 11 Uhr\n📍 Lutherkirche Nippes \n \n\n \n\nOnline spenden \nSpenden für unsere Kollektenzwecke funktioniert auch per Überweisung. \nUnsere Kontodaten finden Sie im Bereich Spenden. \nVielen Dank für Ihre Unterstützung! \n \n\n[/bs_col] \n\n  \n 
URL:https://www.lutherkirche-nippes.de/termin/gottesdienst-260215/
LOCATION:Lutherkirche Nippes\, Siebachstraße 85\, Köln\, NRW\, 50733\, Deutschland
CATEGORIES:Gottesdienst
ATTACH;FMTTYPE=image/jpeg:https://www.lutherkirche-nippes.de/wp-content/uploads/2025/12/Farben.jpg
END:VEVENT
BEGIN:VEVENT
DTSTART;TZID=Europe/Berlin:20260217T140000
DTEND;TZID=Europe/Berlin:20260217T160000
DTSTAMP:20260421T140638
CREATED:20260119T101145Z
LAST-MODIFIED:20260119T101237Z
UID:13186-1771336800-1771344000@www.lutherkirche-nippes.de
SUMMARY:Nippeser Dienstagszoch
DESCRIPTION:Wir begrüßen den Nippeser Dienstagszoch!\nMit allen gemeinsam an unserer Kirchentür (Merheimer Straße 112).\nVor der Kirche gibt es Getränke\, der Kirchgarten und die sanitären Anlagen können während des Zuges von BesucherInnen genutzt werden. \nWir freuen uns auf Nippes – bunt und vielfältig! \nAlaaf!  \n 
URL:https://www.lutherkirche-nippes.de/termin/karneval26/
LOCATION:Lutherkirche Nippes\, Siebachstraße 85\, Köln\, NRW\, 50733\, Deutschland
CATEGORIES:Fest,Party,Sorgfalt,Spaß
ATTACH;FMTTYPE=image/png:https://www.lutherkirche-nippes.de/wp-content/uploads/2026/01/Bildschirmfoto-2026-01-19-um-10.55.01.png
END:VEVENT
BEGIN:VEVENT
DTSTART;TZID=Europe/Berlin:20260220T160000
DTEND;TZID=Europe/Berlin:20260220T180000
DTSTAMP:20260421T140638
CREATED:20260116T090843Z
LAST-MODIFIED:20260116T091049Z
UID:13166-1771603200-1771610400@www.lutherkirche-nippes.de
SUMMARY:Playday – Inklusiver Spielenachmittag für Jugendliche
DESCRIPTION:Freitags* laden wir ein: \nSpielenachmittag für Jugendliche\nGemeindehaus (barrierefrei) | 16-18 Uhr \nNächste Treffen:\n20.3. | 27.3. | 24.4. | 22.5. | 12.6. | 26.6. | 10.7.\n\n \n Bring gerne dein Lieblingsspiel mit Brettspiel\, Kartenspiel\, Würfelspiel…!\n Inklusiv! Jede*r ist willkommen – einfach vorbeikommen und mitspielen.  \n* Der Spieletreff pausiert in Schulferien & an Feiertagen\n \n\nBei Fragen\, meldet euch gerne:\nPetra Knopp\n01 72 | 21 50 657 \n\n \n 
URL:https://www.lutherkirche-nippes.de/termin/zeitfuerkinder-playday-260220/
LOCATION:Gemeindehaus\, Siebachstr. 85\, Köln\, 50733
CATEGORIES:Jugend,Spaß,Spiele
ATTACH;FMTTYPE=image/png:https://www.lutherkirche-nippes.de/wp-content/uploads/2025/08/Bildschirmfoto-2025-09-01-um-12.43.46.png
END:VEVENT
BEGIN:VEVENT
DTSTART;TZID=Europe/Berlin:20260221T110000
DTEND;TZID=Europe/Berlin:20260221T123000
DTSTAMP:20260421T140638
CREATED:20260205T120334Z
LAST-MODIFIED:20260205T120427Z
UID:13324-1771671600-1771677000@www.lutherkirche-nippes.de
SUMMARY:Get the Flow Yoga – Für alle Level
DESCRIPTION:Anspannung – Entspannung. Einatmen – Ausatmen. \nBei sich selbst ankommen und Verbundenheit spüren.  \nGet the Flow Yoga\nFür alle Level\nmit Gisa Klönne\n\nSamstags | 11-12:30 Uhr\nGemeindehaus\nOhne Anmeldung.\nUnkostenbeitrag: 15 € (erm. 12 €) pro Stunde. \nDas Geld fließt in die Arbeit unserer Gemeinde.\n \n Verschiedene Yogastile wie das fließende Vinyasa\, klassisches Hatha und Yin-Yoga werden von Gisa zu einem stimmigen Ganzen kombiniert – angepasst an die individuellen Bedürfnisse der Teilnehmenden.\nSehr gern auch für Menschen in der zweiten Lebenshälfte.  \n Gisa Klönne lebt als Schriftstellerin\, Schreibcoach und Yogalehrerin in Köln-Nippes. Die Essenz ihrer jahrzehntelangen Yogapraxis bringt sie auf die Kurzformel „Yoga macht glücklich“. \nBitte mitbringen:\nBequeme Kleidung und dicke Socken\nMatten und sonstiges Material sind vorhanden.  \n \n\nMehr zu Gisa Klönne: www.gisa-kloenne.de \n\n \n 
URL:https://www.lutherkirche-nippes.de/termin/gettheflow_250221/
LOCATION:Gemeindehaus\, Siebachstr. 85\, Köln\, 50733
CATEGORIES:Bewegung,Entspannen
ATTACH;FMTTYPE=image/png:https://www.lutherkirche-nippes.de/wp-content/uploads/2025/09/Bildschirmfoto-2025-10-06-um-12.46.53.png
END:VEVENT
BEGIN:VEVENT
DTSTART;TZID=Europe/Berlin:20260222T110000
DTEND;TZID=Europe/Berlin:20260222T120000
DTSTAMP:20260421T140638
CREATED:20251205T043336Z
LAST-MODIFIED:20260220T081747Z
UID:12758-1771758000-1771761600@www.lutherkirche-nippes.de
SUMMARY:Gottesdienst
DESCRIPTION:Sonntagsgottesdienst\nmit Abendmahl \nMit Pfarrerin Miriam Haseleu. \n📅 Sonntag\, 22. Februar 2026\n⏰ 11 Uhr\n📍 Lutherkirche Nippes \n \n\n \n\nOnline spenden \nSpenden für unsere Kollektenzwecke funktioniert auch per Überweisung. \nUnsere Kontodaten finden Sie im Bereich Spenden. \nVielen Dank für Ihre Unterstützung! \n \n\n[/bs_col] \n\n  \n 
URL:https://www.lutherkirche-nippes.de/termin/gottesdienst-260222/
LOCATION:Lutherkirche Nippes\, Siebachstraße 85\, Köln\, NRW\, 50733\, Deutschland
CATEGORIES:Gottesdienst
ATTACH;FMTTYPE=image/png:https://www.lutherkirche-nippes.de/wp-content/uploads/2025/12/Bildschirmfoto-2025-12-04-um-23.50.55.png
END:VEVENT
BEGIN:VEVENT
DTSTART;TZID=Europe/Berlin:20260222T110000
DTEND;TZID=Europe/Berlin:20260222T120000
DTSTAMP:20260421T140638
CREATED:20251205T054601Z
LAST-MODIFIED:20260119T112300Z
UID:12832-1771758000-1771761600@www.lutherkirche-nippes.de
SUMMARY:Gottesdienst für Kinder
DESCRIPTION:💪🏼 Unser Thema in diesem Gottesdienst:\nMein Körper gehört mir! \nFür Kinder von 5 bis 10 Jahren \nMit Pfarrperson Elias Mögling & dem Team von Zeit für Kinder \n📅 Sonntag\, 22. Februar 2026\n⏰ 11 Uhr\n📍 Gemeindehaus \n \n\n\n\n\n\n \n\n\n \nUnterstützt unser Projekt \nmit dem Betreff „Zeit für Kinder“\n\n\n \n\n\n\n\n\n \n 
URL:https://www.lutherkirche-nippes.de/termin/kindergottesdienst-2602/
LOCATION:Gemeindehaus\, Siebachstr. 85\, Köln\, 50733
CATEGORIES:Gottesdienst,Gottesdienste für Kinder,Zeit für Kinder
ATTACH;FMTTYPE=image/jpeg:https://www.lutherkirche-nippes.de/wp-content/uploads/2025/12/A3-Plakat-Gottesdienste-fuer-Kinder-26024.jpg
END:VEVENT
BEGIN:VEVENT
DTSTART;TZID=Europe/Berlin:20260223T190000
DTEND;TZID=Europe/Berlin:20260223T220000
DTSTAMP:20260421T140638
CREATED:20260205T120523Z
LAST-MODIFIED:20260205T120614Z
UID:13329-1771873200-1771884000@www.lutherkirche-nippes.de
SUMMARY:hier+weiter: Eat & Greet
DESCRIPTION:Ein Angebot des Netzwerks „hier+weiter – Evangelisch leben in Köln“: \nEat ’n‘ Greet\nFeierabendtreff im Veedel\n\n 23. Februar | 19 Uhr\nDiakoniePunkt Nippes\nYorckstraße. 10\, 50733 Köln \nZusammen kochen\, neue Leute treffen und gemeinsam den Abend genießen. \nFür alle zwischen 25 bis 40 Jahren. . \n Du bist dabei?\nGib uns kurz Bescheid und melde dich an!\nWir kümmern uns um die Besorgungen. \n\nKontakt: \nMarina von Ameln\nmarina.vonameln@diakonie-koeln.de\n \n\n\n\n\n\nEin Projekt von:\n\nwww.hierundweiter.de \n\n\n \n\n \n\n\n\n\n \n 
URL:https://www.lutherkirche-nippes.de/termin/eatngreet-2602/
LOCATION:DiakoniePunkt Nippes\, Yorckstraße 10\, Köln\, 50733\, Deutschland
CATEGORIES:Entspannen,Kooperation,Momente
ATTACH;FMTTYPE=image/jpeg:https://www.lutherkirche-nippes.de/wp-content/uploads/2025/04/Logo-hierweiter-EatGreet-2504.jpg
END:VEVENT
BEGIN:VEVENT
DTSTART;TZID=Europe/Berlin:20260223T193000
DTEND;TZID=Europe/Berlin:20260223T203000
DTSTAMP:20260421T140638
CREATED:20251205T064738Z
LAST-MODIFIED:20251205T064814Z
UID:12889-1771875000-1771878600@www.lutherkirche-nippes.de
SUMMARY:Zeit für Stille
DESCRIPTION:🪔 Klang ~ Atem ~ Meditation \n Zum Ruhigwerden\, Atem schöpfen\, Stille und Gemeinschaft erfahren. \nGerahmt von einer kleinen Körperübung und kurzen Texten steht das gemeinsame Schweigen im Mittelpunkt. \nAlle sind herzlich eingeladen. Eine Anmeldung ist nicht nötig. \n \n📅  Montag\, 23. Februar 2026\n⏰  19:30 Uhr\n📍 Lutherkirche Nippes \n  \n\nKontakt \nMiriam Haseleu\n miriam.haseleu@ekir.de
URL:https://www.lutherkirche-nippes.de/termin/zeitfuerstille-2602/
LOCATION:Gemeindehaus\, Deutschland
CATEGORIES:Entspannen,Freizeit
ATTACH;FMTTYPE=image/jpeg:https://www.lutherkirche-nippes.de/wp-content/uploads/2024/11/Insta-Zeit-fuer-Stille-20253.jpg
END:VEVENT
BEGIN:VEVENT
DTSTART;TZID=Europe/Berlin:20260227T170000
DTEND;TZID=Europe/Berlin:20260227T180000
DTSTAMP:20260421T140638
CREATED:20251205T064213Z
LAST-MODIFIED:20251205T064326Z
UID:12881-1772211600-1772215200@www.lutherkirche-nippes.de
SUMMARY:Walk 'n' Talk: Spaziertreff im Veedel
DESCRIPTION:👣 Gemeinsam durch Nippes spazieren \nWir möchten Gemeinschaft stiften und fördern\, Austausch und lebendige Gespräche. \nWer Lust hat\, ist herzlich eingeladen – wir starten unseren neuer Spaziertreff Walk & Talk! \nMit Gisela Keuerleber.\nEs ist keine Anmeldung notwendig. \nDas Geheimnis des Vorwärtskommens besteht darin\, den ersten Schritt zu tun. (Mark Twain)  \n📅 Freitag\, 27. Februar 2026\n⏰ 17 Uhr\n📍Treffpunkt Lutherkirche \n  \n\nKontakt \n\n\n\n\n\nGisela Keuerleber\n0221 | 73 91 436\n0173 | 27 19 072\n\n\n\n\n\n  \n  \n 
URL:https://www.lutherkirche-nippes.de/termin/walkntalk-2602/
LOCATION:Lutherkirche Nippes\, Siebachstraße 85\, Köln\, NRW\, 50733\, Deutschland
CATEGORIES:Dialog,Momente
ATTACH;FMTTYPE=image/jpeg:https://www.lutherkirche-nippes.de/wp-content/uploads/2025/09/Insta-WalknTalk-20252.jpg
END:VEVENT
BEGIN:VEVENT
DTSTART;TZID=Europe/Berlin:20260228T110000
DTEND;TZID=Europe/Berlin:20260228T123000
DTSTAMP:20260421T140639
CREATED:20260205T120443Z
LAST-MODIFIED:20260205T120504Z
UID:13327-1772276400-1772281800@www.lutherkirche-nippes.de
SUMMARY:Get the Flow Yoga – Für alle Level
DESCRIPTION:Anspannung – Entspannung. Einatmen – Ausatmen. \nBei sich selbst ankommen und Verbundenheit spüren.  \nGet the Flow Yoga\nFür alle Level\nmit Gisa Klönne\n\nSamstags | 11-12:30 Uhr\nGemeindehaus\nOhne Anmeldung.\nUnkostenbeitrag: 15 € (erm. 12 €) pro Stunde. \nDas Geld fließt in die Arbeit unserer Gemeinde.\n \n Verschiedene Yogastile wie das fließende Vinyasa\, klassisches Hatha und Yin-Yoga werden von Gisa zu einem stimmigen Ganzen kombiniert – angepasst an die individuellen Bedürfnisse der Teilnehmenden.\nSehr gern auch für Menschen in der zweiten Lebenshälfte.  \n Gisa Klönne lebt als Schriftstellerin\, Schreibcoach und Yogalehrerin in Köln-Nippes. Die Essenz ihrer jahrzehntelangen Yogapraxis bringt sie auf die Kurzformel „Yoga macht glücklich“. \nBitte mitbringen:\nBequeme Kleidung und dicke Socken\nMatten und sonstiges Material sind vorhanden.  \n \n\nMehr zu Gisa Klönne: www.gisa-kloenne.de \n\n \n 
URL:https://www.lutherkirche-nippes.de/termin/gettheflow_250228/
LOCATION:Gemeindehaus\, Siebachstr. 85\, Köln\, 50733
CATEGORIES:Bewegung,Entspannen
ATTACH;FMTTYPE=image/png:https://www.lutherkirche-nippes.de/wp-content/uploads/2025/09/Bildschirmfoto-2025-10-06-um-12.46.53.png
END:VEVENT
END:VCALENDAR