BEGIN:VCALENDAR
VERSION:2.0
PRODID:-//Evangelische Kirchengemeinde Köln-Nippes - ECPv6.15.12.2//NONSGML v1.0//EN
CALSCALE:GREGORIAN
METHOD:PUBLISH
X-ORIGINAL-URL:https://www.lutherkirche-nippes.de
X-WR-CALDESC:Veranstaltungen für Evangelische Kirchengemeinde Köln-Nippes
REFRESH-INTERVAL;VALUE=DURATION:PT1H
X-Robots-Tag:noindex
X-PUBLISHED-TTL:PT1H
BEGIN:VTIMEZONE
TZID:Europe/Berlin
BEGIN:DAYLIGHT
TZOFFSETFROM:+0100
TZOFFSETTO:+0200
TZNAME:CEST
DTSTART:20250330T010000
END:DAYLIGHT
BEGIN:STANDARD
TZOFFSETFROM:+0200
TZOFFSETTO:+0100
TZNAME:CET
DTSTART:20251026T010000
END:STANDARD
BEGIN:DAYLIGHT
TZOFFSETFROM:+0100
TZOFFSETTO:+0200
TZNAME:CEST
DTSTART:20260329T010000
END:DAYLIGHT
BEGIN:STANDARD
TZOFFSETFROM:+0200
TZOFFSETTO:+0100
TZNAME:CET
DTSTART:20261025T010000
END:STANDARD
BEGIN:DAYLIGHT
TZOFFSETFROM:+0100
TZOFFSETTO:+0200
TZNAME:CEST
DTSTART:20270328T010000
END:DAYLIGHT
BEGIN:STANDARD
TZOFFSETFROM:+0200
TZOFFSETTO:+0100
TZNAME:CET
DTSTART:20271031T010000
END:STANDARD
END:VTIMEZONE
BEGIN:VEVENT
DTSTART;TZID=Europe/Berlin:20260502T110000
DTEND;TZID=Europe/Berlin:20260502T123000
DTSTAMP:20260423T113046
CREATED:20260324T081237Z
LAST-MODIFIED:20260324T082056Z
UID:13509-1777719600-1777725000@www.lutherkirche-nippes.de
SUMMARY:Get the Flow Yoga – Für alle Level
DESCRIPTION:Angebote für Körper & Seele\nAnspannung – Entspannung. Einatmen – Ausatmen. \nBei sich selbst ankommen und Verbundenheit spüren.  \nGet the Flow Yoga\nFür alle Level\nmit Gisa Klönne\n\nSamstags | 11-12:30 Uhr\nGemeindehaus\nOhne Anmeldung.\nUnkostenbeitrag: 15 € (erm. 12 €) pro Stunde. \nDas Geld fließt in die Arbeit unserer Gemeinde.\n \n Verschiedene Yogastile wie das fließende Vinyasa\, klassisches Hatha und Yin-Yoga werden von Gisa zu einem stimmigen Ganzen kombiniert – angepasst an die individuellen Bedürfnisse der Teilnehmenden.\nSehr gern auch für Menschen in der zweiten Lebenshälfte.  \n Gisa Klönne lebt als Schriftstellerin\, Schreibcoach und Yogalehrerin in Köln-Nippes. Die Essenz ihrer jahrzehntelangen Yogapraxis bringt sie auf die Kurzformel „Yoga macht glücklich“. \nBitte mitbringen:\nBequeme Kleidung und dicke Socken\nMatten und sonstiges Material sind vorhanden.  \n \n\nMehr zu Gisa Klönne: www.gisa-kloenne.de \n\n \n 
URL:https://www.lutherkirche-nippes.de/termin/gettheflow_260502/
LOCATION:Gemeindehaus\, Siebachstr. 85\, Köln\, 50733
CATEGORIES:Bewegung,Entspannen
ATTACH;FMTTYPE=image/png:https://www.lutherkirche-nippes.de/wp-content/uploads/2025/09/Bildschirmfoto-2025-10-06-um-12.46.53.png
END:VEVENT
BEGIN:VEVENT
DTSTART;TZID=Europe/Berlin:20260503T110000
DTEND;TZID=Europe/Berlin:20260503T120000
DTSTAMP:20260423T113046
CREATED:20260324T102809Z
LAST-MODIFIED:20260324T102909Z
UID:13536-1777806000-1777809600@www.lutherkirche-nippes.de
SUMMARY:Gottesdienst
DESCRIPTION:Sonntagsgottesdienst \nMit Elias Mögling \n📅 Sonntag\, 03. Mai 2026\n⏰ 11 Uhr\n📍 Lutherkirche Nippes \n \n\n \n\nOnline spenden \nSpenden für unsere Kollektenzwecke funktioniert auch per Überweisung. \nUnsere Kontodaten finden Sie im Bereich Spenden. \nVielen Dank für Ihre Unterstützung! \n \n\n[/bs_col] \n\n  \n 
URL:https://www.lutherkirche-nippes.de/termin/gottesdienst-260503/
LOCATION:Lutherkirche Nippes\, Siebachstraße 85\, Köln\, NRW\, 50733\, Deutschland
CATEGORIES:Gottesdienst
ATTACH;FMTTYPE=image/png:https://www.lutherkirche-nippes.de/wp-content/uploads/2025/12/Bildschirmfoto-2025-12-04-um-23.50.55.png
END:VEVENT
BEGIN:VEVENT
DTSTART;TZID=Europe/Berlin:20260509T110000
DTEND;TZID=Europe/Berlin:20260509T123000
DTSTAMP:20260423T113046
CREATED:20260324T081410Z
LAST-MODIFIED:20260324T082033Z
UID:13511-1778324400-1778329800@www.lutherkirche-nippes.de
SUMMARY:Get the Flow Yoga – Für alle Level
DESCRIPTION:Angebote für Körper & Seele\nAnspannung – Entspannung. Einatmen – Ausatmen. \nBei sich selbst ankommen und Verbundenheit spüren.  \nGet the Flow Yoga\nFür alle Level\nmit Gisa Klönne\n\nSamstags | 11-12:30 Uhr\nGemeindehaus\nOhne Anmeldung.\nUnkostenbeitrag: 15 € (erm. 12 €) pro Stunde. \nDas Geld fließt in die Arbeit unserer Gemeinde.\n \n Verschiedene Yogastile wie das fließende Vinyasa\, klassisches Hatha und Yin-Yoga werden von Gisa zu einem stimmigen Ganzen kombiniert – angepasst an die individuellen Bedürfnisse der Teilnehmenden.\nSehr gern auch für Menschen in der zweiten Lebenshälfte.  \n Gisa Klönne lebt als Schriftstellerin\, Schreibcoach und Yogalehrerin in Köln-Nippes. Die Essenz ihrer jahrzehntelangen Yogapraxis bringt sie auf die Kurzformel „Yoga macht glücklich“. \nBitte mitbringen:\nBequeme Kleidung und dicke Socken\nMatten und sonstiges Material sind vorhanden.  \n \n\nMehr zu Gisa Klönne: www.gisa-kloenne.de \n\n \n 
URL:https://www.lutherkirche-nippes.de/termin/gettheflow_260509/
LOCATION:Gemeindehaus\, Siebachstr. 85\, Köln\, 50733
CATEGORIES:Bewegung,Entspannen
ATTACH;FMTTYPE=image/png:https://www.lutherkirche-nippes.de/wp-content/uploads/2025/09/Bildschirmfoto-2025-10-06-um-12.46.53.png
END:VEVENT
BEGIN:VEVENT
DTSTART;TZID=Europe/Berlin:20260510T110000
DTEND;TZID=Europe/Berlin:20260510T123000
DTSTAMP:20260423T113046
CREATED:20260203T100345Z
LAST-MODIFIED:20260324T102939Z
UID:13310-1778410800-1778416200@www.lutherkirche-nippes.de
SUMMARY:Gottesdienst zur Konfirmation
DESCRIPTION:Konfirmation 2026 \nMit Pfarrer Thomas Diederichs \n📅 Sonntag\, 10. Mai 2026\n⏰ 11 Uhr\n📍 Lutherkirche Nippes \n \n\nOnline spenden \n\nSpenden für unsere Kollektenzwecke funktioniert auch online per Überweisung. Die Kontodaten dazu Sie im Bereich Spenden.\nVielen Dank für Ihre Unterstützung! \n[/bs_col]\n\n [/bs_row] \n\n  \n 
URL:https://www.lutherkirche-nippes.de/termin/konfirmation-2026/
LOCATION:Lutherkirche Nippes\, Siebachstraße 85\, Köln\, NRW\, 50733\, Deutschland
CATEGORIES:Gottesdienst,Konfis
ATTACH;FMTTYPE=image/png:https://www.lutherkirche-nippes.de/wp-content/uploads/2025/12/Bildschirmfoto-2025-12-04-um-23.50.55.png
END:VEVENT
BEGIN:VEVENT
DTSTART;TZID=Europe/Berlin:20260513T094500
DTEND;TZID=Europe/Berlin:20260513T113000
DTSTAMP:20260423T113046
CREATED:20260324T120003Z
LAST-MODIFIED:20260324T120044Z
UID:13545-1778665500-1778671800@www.lutherkirche-nippes.de
SUMMARY:DiakoniePunkt: Gemeinsames Frühstück für Senior*innen
DESCRIPTION:Jeden 2. Mittwoch im Monat im DiakoniePunkt Nippes: \n🥐 Senior*innenfrühstück \nEine Anmeldung ist nicht notwendig.\nEinfach vorbeikommen – wir freuen uns! \nBeitrag: 5€ \n📅 Mittwoch\, 08. März 2026\n⏰ 9:45 Uhr\n📍DiakoniePunkt Nippes \n(Yorckstr. 10\, 50733 Köln) \nNächste Termine\n13. Mai | 10. Juni\n \nAlle Senior*innen sind herzlich eingeladen!
URL:https://www.lutherkirche-nippes.de/termin/seniorenfruehstueck-260513/
LOCATION:DiakoniePunkt Nippes\, Yorckstraße 10\, Köln\, 50733\, Deutschland
CATEGORIES:Café,Senior*innen
ATTACH;FMTTYPE=image/png:https://www.lutherkirche-nippes.de/wp-content/uploads/2025/11/Bildschirmfoto-2025-11-20-um-13.33.20.png
END:VEVENT
BEGIN:VEVENT
DTSTART;TZID=Europe/Berlin:20260514T110000
DTEND;TZID=Europe/Berlin:20260514T123000
DTSTAMP:20260423T113046
CREATED:20251205T051224Z
LAST-MODIFIED:20260417T124404Z
UID:12794-1778756400-1778761800@www.lutherkirche-nippes.de
SUMMARY:Gottesdienst Gemeinsam an Christi Himmelfahrt
DESCRIPTION:Unter freiem Himmel\nGottesdienst Gemeinsam an Christi Himmelfahrt\nBei gutem Wetter unter freiem Himmel im Kirchgarten. \nMit Miriam Haseleu \n📅 Donnerstag\, 14. Mai 2026\n⏰ 11 Uhr\n📍 Lutherkirche Nippes \n \n\n\n \n \nUnterstützt unser Projekt \nmit dem Betreff „Zeit für Kinder“
URL:https://www.lutherkirche-nippes.de/termin/gg-himmelfahrt-2026/
LOCATION:Kirchgarten\, Lutherkirche Nippes\, Siebachstraße\, Köln\, Deutschland\, 50733\, Deutschland
CATEGORIES:Fest,Gottesdienst,Gottesdienst Gemeinsam
ATTACH;FMTTYPE=image/png:https://www.lutherkirche-nippes.de/wp-content/uploads/2025/12/Bildschirmfoto-2025-12-04-um-23.50.55.png
END:VEVENT
BEGIN:VEVENT
DTSTART;TZID=Europe/Berlin:20260514T120000
DTEND;TZID=Europe/Berlin:20260514T130000
DTSTAMP:20260423T113046
CREATED:20251205T051930Z
LAST-MODIFIED:20260310T110504Z
UID:12802-1778760000-1778763600@www.lutherkirche-nippes.de
SUMMARY:Café im Kirchgarten
DESCRIPTION:☕ 🌳 Unser Café im Grünen \nDas Café im Kirchgarten lädt zum Verweilen ein. Nach dem Gottesdienst bietet sich die Möglichkeit\, den Garten um die Kirche herum zu genießen. Bei Kaffee und Schorle kommt man in unserem Café miteinander ins Gespräch. \nWir freuen uns auf ein Miteinander unter dem frühsommerlichen Kirschbaum. \n📅 Donnerstag\, 14. Mai 2026\n⏰ 12 Uhr\n📍Kirchgarten Lutherkirche Nippes \n\nKommende Termine dieses Jahr: \n31. Mai | 26. Juli | 30. August | 27. September \n 
URL:https://www.lutherkirche-nippes.de/termin/cik-2605/
LOCATION:Kirchgarten\, Lutherkirche Nippes\, Siebachstraße\, Köln\, Deutschland\, 50733\, Deutschland
CATEGORIES:Café,Dialog
ATTACH;FMTTYPE=image/jpeg:https://www.lutherkirche-nippes.de/wp-content/uploads/2024/05/Medien-Cafe-im-Kirchgarten-20244.jpg
END:VEVENT
BEGIN:VEVENT
DTSTART;TZID=Europe/Berlin:20260516T110000
DTEND;TZID=Europe/Berlin:20260516T123000
DTSTAMP:20260423T113046
CREATED:20260324T081540Z
LAST-MODIFIED:20260324T082006Z
UID:13513-1778929200-1778934600@www.lutherkirche-nippes.de
SUMMARY:Get the Flow Yoga – Für alle Level
DESCRIPTION:Angebote für Körper & Seele\nGet the Flow Yoga\nFür alle Level\nmit Gisa Klönne\n\nSamstags | 11-12:30 Uhr\nGemeindehaus\nOhne Anmeldung.\nUnkostenbeitrag: 15 € (erm. 12 €) pro Stunde. \nDas Geld fließt in die Arbeit unserer Gemeinde.\n \n Verschiedene Yogastile wie das fließende Vinyasa\, klassisches Hatha und Yin-Yoga werden von Gisa zu einem stimmigen Ganzen kombiniert – angepasst an die individuellen Bedürfnisse der Teilnehmenden.\nSehr gern auch für Menschen in der zweiten Lebenshälfte.  \n Gisa Klönne lebt als Schriftstellerin\, Schreibcoach und Yogalehrerin in Köln-Nippes. Die Essenz ihrer jahrzehntelangen Yogapraxis bringt sie auf die Kurzformel „Yoga macht glücklich“. \nBitte mitbringen:\nBequeme Kleidung und dicke Socken\nMatten und sonstiges Material sind vorhanden.  \n \n\nMehr zu Gisa Klönne: www.gisa-kloenne.de \n\n \n 
URL:https://www.lutherkirche-nippes.de/termin/gettheflow_260516/
LOCATION:Gemeindehaus\, Siebachstr. 85\, Köln\, 50733
CATEGORIES:Bewegung,Entspannen
ATTACH;FMTTYPE=image/png:https://www.lutherkirche-nippes.de/wp-content/uploads/2025/09/Bildschirmfoto-2025-10-06-um-12.46.53.png
END:VEVENT
BEGIN:VEVENT
DTSTART;TZID=Europe/Berlin:20260522T160000
DTEND;TZID=Europe/Berlin:20260522T180000
DTSTAMP:20260423T113046
CREATED:20260116T091330Z
LAST-MODIFIED:20260116T092020Z
UID:13174-1779465600-1779472800@www.lutherkirche-nippes.de
SUMMARY:Playday – Inklusiver Spielenachmittag für Jugendliche
DESCRIPTION:Freitags* laden wir ein: \nSpielenachmittag für Jugendliche\nGemeindehaus (barrierefrei) | 16-18 Uhr \nNächste Treffen:\n12.6. | 26.6. | 10.7.\n\n \n Bring gerne dein Lieblingsspiel mit Brettspiel\, Kartenspiel\, Würfelspiel…!\n Inklusiv! Jede*r ist willkommen – einfach vorbeikommen und mitspielen.  \n* Der Spieletreff pausiert in Schulferien & an Feiertagen\n \n\nBei Fragen\, meldet euch gerne:\nPetra Knopp\n01 72 | 21 50 657 \n\n \n 
URL:https://www.lutherkirche-nippes.de/termin/zeitfuerkinder-playday-260522/
LOCATION:Gemeindehaus\, Siebachstr. 85\, Köln\, 50733
CATEGORIES:Jugend,Spaß,Spiele
ATTACH;FMTTYPE=image/png:https://www.lutherkirche-nippes.de/wp-content/uploads/2025/08/Bildschirmfoto-2025-09-01-um-12.43.46.png
END:VEVENT
BEGIN:VEVENT
DTSTART;TZID=Europe/Berlin:20260524T110000
DTEND;TZID=Europe/Berlin:20260524T123000
DTSTAMP:20260423T113046
CREATED:20251205T051617Z
LAST-MODIFIED:20260417T094331Z
UID:12799-1779620400-1779625800@www.lutherkirche-nippes.de
SUMMARY:Gottesdienst am Pfingstsonntag
DESCRIPTION:Gottesdienst an Pfingstsonntag\n \nMit schöner Musik und Abendmahl zum Pfingstfest.\nIm Anschluss sind alle herzlich eingeladen\, im Café im Kirchgarten zu verweilen. \nMit Pfarrerin Miriam Haseleu \n📅 Sonntag\, 24. Mai 2026\n⏰ 11 Uhr\n📍 Lutherkirche Nippes \n \n 
URL:https://www.lutherkirche-nippes.de/termin/pfingstso2026/
LOCATION:Kirchgarten\, Lutherkirche Nippes\, Siebachstraße\, Köln\, Deutschland\, 50733\, Deutschland
CATEGORIES:Fest,Gottesdienst
ATTACH;FMTTYPE=image/png:https://www.lutherkirche-nippes.de/wp-content/uploads/2025/12/Bildschirmfoto-2025-12-04-um-23.50.55.png
END:VEVENT
BEGIN:VEVENT
DTSTART;TZID=Europe/Berlin:20260525T200000
DTEND;TZID=Europe/Berlin:20260525T223000
DTSTAMP:20260423T113046
CREATED:20240419T165244Z
LAST-MODIFIED:20260417T080814Z
UID:10386-1779739200-1779748200@www.lutherkirche-nippes.de
SUMMARY:THE LAST WALTZ - Pfingston Town
DESCRIPTION:„The Last Waltz“ – Gottesdienst am Pfingstmontag! \nDas wird die Party des Jahrhunderts… und der letzte Gottesdienst mit Thomas Diederichs\nUnser Gottesdienst am Pfingstmontag bietet wieder einmal „Pfingston Town“ ab 20 Uhr. \nMit Pfarrer Thomas Diederichs und der Familie „Love“. \nRückblick: Pfingston Town 2023 \n  \n \n\nOnline spenden \n\nSpenden für unsere Kollektenzwecke funktioniert auch per Überweisung. \nDie dazugehörigen Kontodaten finden Sie im Bereich Spenden.\nVielen Dank für Ihre Unterstützung! \n[/bs_col][/bs_row] \n\n\n  \n 
URL:https://www.lutherkirche-nippes.de/termin/pfingstmontag-2026/
LOCATION:Lutherkirche Nippes\, Siebachstraße 85\, Köln\, NRW\, 50733\, Deutschland
CATEGORIES:Fest,Gottesdienst
ATTACH;FMTTYPE=image/jpeg:https://www.lutherkirche-nippes.de/wp-content/uploads/2026/04/Last-Waltz_4_3.jpg
END:VEVENT
BEGIN:VEVENT
DTSTART;TZID=Europe/Berlin:20260529T160000
DTEND;TZID=Europe/Berlin:20260529T173000
DTSTAMP:20260423T113046
CREATED:20251205T063455Z
LAST-MODIFIED:20260402T052212Z
UID:12872-1780070400-1780075800@www.lutherkirche-nippes.de
SUMMARY:Offenes Trauercafé
DESCRIPTION:Trauern braucht Zeit und Trost. Zeit für Erinnerung\, Zeit für Stille\, Zeit für neue Schritte. \nManchmal tut es gut\, Zeit in Gemeinschaft mit Menschen zu verbringen\, die ähnliches erleben. Die Trauergruppe bietet einen geschützten Raum für Austausch und kleine Impulse. Einen Raum für Sie und Ihre Trauer mit allen Facetten. Wir laden alle ein\, die um einen Menschen trauern. \nEine Anmeldung ist nicht nötig. \n📅  Freitag\, 29. Mai 2026\n⏰ 16-17:30 Uhr\n📍Café Fink (nur für unsere Gruppe geöffnet)\n(Siebachstr. 50\, 50733 Köln) \n\nNächste Termine dieses Jahr:\n31. Juli \n\nFeste Trauergruppe\nAlternativ gibt es die Möglichkeit an einer festen Trauergruppe teilzunehmen\, \ndie sich einmal monatlich geschlossen trifft.\n Jetzt vormerken!\nHier online oder direkt bei Miriam Haseleu / Dorit Felsch an. \n\n\nKontakt \n\n\n\nMiriam Haseleu\n0221 – 29 86 87 95\nmiriam.haseleu@ekir.de\nDorit Felsch\n0221 – 33 82 199\ndorit.felsch@ekir.de\n\n\n\n \n \n\n 
URL:https://www.lutherkirche-nippes.de/termin/trauercafe-2605/
LOCATION:Café Fink\, Siebachstraße 50\, Köln\, 50733\, Deutschland
CATEGORIES:Dialog
ATTACH;FMTTYPE=image/jpeg:https://www.lutherkirche-nippes.de/wp-content/uploads/2024/11/Medien-Trauercafé-.jpg
END:VEVENT
BEGIN:VEVENT
DTSTART;TZID=Europe/Berlin:20260529T170000
DTEND;TZID=Europe/Berlin:20260529T180000
DTSTAMP:20260423T113046
CREATED:20260324T081658Z
LAST-MODIFIED:20260324T082801Z
UID:13515-1780074000-1780077600@www.lutherkirche-nippes.de
SUMMARY:Walk 'n' Talk: Spaziertreff im Veedel
DESCRIPTION:Angebote für Körper & Seele\n👣 Gemeinsam durch Nippes spazieren\nWir möchten Gemeinschaft stiften und fördern\, Austausch und lebendige Gespräche. \nWer Lust hat\, ist herzlich eingeladen – wir starten unseren neuer Spaziertreff Walk & Talk! \nMit Gisela Keuerleber.\nEs ist keine Anmeldung notwendig. \nDas Geheimnis des Vorwärtskommens besteht darin\, den ersten Schritt zu tun. (Mark Twain)  \n📅 Freitag\, 29. Mai 2026\n⏰ 17 Uhr\n📍Treffpunkt Lutherkirche \n  \n\nKontakt \n\n\n\n\n\nGisela Keuerleber\n0221 | 73 91 436\n0173 | 27 19 072\n\n\n\n\n\n  \n  \n 
URL:https://www.lutherkirche-nippes.de/termin/walkntalk-2605/
LOCATION:Lutherkirche Nippes\, Siebachstraße 85\, Köln\, NRW\, 50733\, Deutschland
CATEGORIES:Dialog,Momente
ATTACH;FMTTYPE=image/jpeg:https://www.lutherkirche-nippes.de/wp-content/uploads/2025/09/Insta-WalknTalk-20252.jpg
END:VEVENT
BEGIN:VEVENT
DTSTART;TZID=Europe/Berlin:20260531T110000
DTEND;TZID=Europe/Berlin:20260531T120000
DTSTAMP:20260423T113046
CREATED:20251205T055408Z
LAST-MODIFIED:20251205T055536Z
UID:12842-1780225200-1780228800@www.lutherkirche-nippes.de
SUMMARY:Gottesdienst für Kinder
DESCRIPTION:👻 Unser Thema in diesem Gottesdienst:\nWer ist der Heilige Geist? \nFür Kinder von 5 bis 10 Jahren \nMit dem Team von Zeit für Kinder \n📅 Sonntag\, 31. Mai 2026\n⏰ 11 Uhr\n📍 Gemeindehaus \n \n\n\n\n\n\n \n\n\n \nUnterstützt unser Projekt \nmit dem Betreff „Zeit für Kinder“\n\n\n \n\n\n\n\n\n \n 
URL:https://www.lutherkirche-nippes.de/termin/kindergottesdienst-2605/
LOCATION:Gemeindehaus\, Siebachstr. 85\, Köln\, 50733
CATEGORIES:Gottesdienst,Gottesdienste für Kinder,Zeit für Kinder
ATTACH;FMTTYPE=image/png:https://www.lutherkirche-nippes.de/wp-content/uploads/2024/09/Bildschirmfoto-2024-09-19-um-10.34.33-1.png
END:VEVENT
BEGIN:VEVENT
DTSTART;TZID=Europe/Berlin:20260531T120000
DTEND;TZID=Europe/Berlin:20260531T130000
DTSTAMP:20260423T113046
CREATED:20251205T052437Z
LAST-MODIFIED:20251205T052519Z
UID:12806-1780228800-1780232400@www.lutherkirche-nippes.de
SUMMARY:Café im Kirchgarten
DESCRIPTION:☕ 🌳 Unser Café im Grünen \nDas Café im Kirchgarten lädt zum Verweilen ein. Nach dem Gottesdienst bietet sich die Möglichkeit\, den Garten um die Kirche herum zu genießen. Bei Kaffee und Schorle kommt man in unserem Café miteinander ins Gespräch. \nWir freuen uns auf ein Miteinander unter dem frühsommerlichen Kirschbaum. \n📅 Sonntag\, 31. Mai 2026\n⏰ 12 Uhr\n📍Kirchgarten Lutherkirche Nippes \n\nKommende Termine dieses Jahr: \n26. Juli | 30. August | 27. September \n 
URL:https://www.lutherkirche-nippes.de/termin/cik-260531/
LOCATION:Kirchgarten\, Lutherkirche Nippes\, Siebachstraße\, Köln\, Deutschland\, 50733\, Deutschland
CATEGORIES:Café,Dialog
ATTACH;FMTTYPE=image/jpeg:https://www.lutherkirche-nippes.de/wp-content/uploads/2024/05/Medien-Cafe-im-Kirchgarten-20244.jpg
END:VEVENT
BEGIN:VEVENT
DTSTART;TZID=Europe/Berlin:20260531T190000
DTEND;TZID=Europe/Berlin:20260531T200000
DTSTAMP:20260423T113046
CREATED:20260327T010756Z
LAST-MODIFIED:20260330T104020Z
UID:13548-1780254000-1780257600@www.lutherkirche-nippes.de
SUMMARY:Cellokonzert: Bach hoch Drei
DESCRIPTION:Bach3\n\nDrei Celli. Drei MusikerInnen. Drei Suiten. \nEin Komponist. \n📅 Sonntag\, 31. Mai 2026\n⏰ 19 Uhr\n📍 Lutherkirche \nEintritt gegen Spende für den Kirchturm \nProgramm | Johann Sebastian Bach: \nSuite Nr. 1 in G-Dur für Violoncello solo\, BWV 1007 \nJakob Arnold | Cello \nSuite Nr. 2 in d-Moll für Violoncello solo\, BWV 1008\nCarlotta Süverkrüp | Cello \nSuite Nr. 3 in C-Dur für Violoncello solo\, BWV 1009\nHana Esser | Cello\n \n\n  \n 
URL:https://www.lutherkirche-nippes.de/termin/bach-drei/
LOCATION:Lutherkirche Nippes\, Siebachstraße 85\, Köln\, NRW\, 50733\, Deutschland
CATEGORIES:Hilfe,Konzert,Kultur
ATTACH;FMTTYPE=image/png:https://www.lutherkirche-nippes.de/wp-content/uploads/2026/03/Bildschirmfoto-2026-03-27-um-02.21.59.png
END:VEVENT
END:VCALENDAR